BEGIN:VCALENDAR
VERSION:2.0
PRODID:-//Loudoun County Equine Alliance - ECPv6.15.20//NONSGML v1.0//EN
CALSCALE:GREGORIAN
METHOD:PUBLISH
X-ORIGINAL-URL:https://loudounequine.org
X-WR-CALDESC:Events for Loudoun County Equine Alliance
REFRESH-INTERVAL;VALUE=DURATION:PT1H
X-Robots-Tag:noindex
X-PUBLISHED-TTL:PT1H
BEGIN:VTIMEZONE
TZID:America/New_York
BEGIN:DAYLIGHT
TZOFFSETFROM:-0500
TZOFFSETTO:-0400
TZNAME:EDT
DTSTART:20220313T070000
END:DAYLIGHT
BEGIN:STANDARD
TZOFFSETFROM:-0400
TZOFFSETTO:-0500
TZNAME:EST
DTSTART:20221106T060000
END:STANDARD
BEGIN:DAYLIGHT
TZOFFSETFROM:-0500
TZOFFSETTO:-0400
TZNAME:EDT
DTSTART:20230312T070000
END:DAYLIGHT
BEGIN:STANDARD
TZOFFSETFROM:-0400
TZOFFSETTO:-0500
TZNAME:EST
DTSTART:20231105T060000
END:STANDARD
BEGIN:DAYLIGHT
TZOFFSETFROM:-0500
TZOFFSETTO:-0400
TZNAME:EDT
DTSTART:20240310T070000
END:DAYLIGHT
BEGIN:STANDARD
TZOFFSETFROM:-0400
TZOFFSETTO:-0500
TZNAME:EST
DTSTART:20241103T060000
END:STANDARD
END:VTIMEZONE
BEGIN:VEVENT
DTSTART;TZID=America/New_York:20230318T103000
DTEND;TZID=America/New_York:20230318T120000
DTSTAMP:20260421T165213
CREATED:20230306T112715Z
LAST-MODIFIED:20230306T112715Z
UID:5195-1679135400-1679140800@loudounequine.org
SUMMARY:Introduction to Horsemanship
DESCRIPTION:This course introduces the basics of Horses and Horsemanship from the ground. No riding experience needed. We will both discuss with a syllabus and have horses present to assist in learning basic care\, grooming\, behavior\, handling\, anatomy of horses\, and more. Perfect for someone who is interested in fostering a relationship with horses\, either because you have always wanted to enrich/gain knowledge\, or you have a child in riding or therapeutic riding. Spaces are limited. If you indicate you are going\, PLEASE PRIVATE MESSAGE us your email address and we will provide you with registration\, additional information about the class\, & waiver information. A total class fee of $200 for the 3 week\, hour and a half per lesson course\, will be collected via check\, cash\, Zelle\, or Venmo. Class is taught by Bevin Nicholson who has 20+ years experience and has taught at GMU\, as well as experience in the hunter/jumper and dressage ring. Bevin believes in the three C’s- Calm\, Control\, & Confident and can assist you in getting there
URL:https://loudounequine.org/event/introduction-to-horsemanship
LOCATION:C’est Chevaux\, 42748 Edwards Ferry Road\, Leesburg\, Virginia\, United States
END:VEVENT
END:VCALENDAR