BEGIN:VCALENDAR
VERSION:2.0
PRODID:-//Loudoun County Equine Alliance - ECPv6.15.20//NONSGML v1.0//EN
CALSCALE:GREGORIAN
METHOD:PUBLISH
X-ORIGINAL-URL:https://loudounequine.org
X-WR-CALDESC:Events for Loudoun County Equine Alliance
REFRESH-INTERVAL;VALUE=DURATION:PT1H
X-Robots-Tag:noindex
X-PUBLISHED-TTL:PT1H
BEGIN:VTIMEZONE
TZID:America/New_York
BEGIN:DAYLIGHT
TZOFFSETFROM:-0500
TZOFFSETTO:-0400
TZNAME:EDT
DTSTART:20220313T070000
END:DAYLIGHT
BEGIN:STANDARD
TZOFFSETFROM:-0400
TZOFFSETTO:-0500
TZNAME:EST
DTSTART:20221106T060000
END:STANDARD
BEGIN:DAYLIGHT
TZOFFSETFROM:-0500
TZOFFSETTO:-0400
TZNAME:EDT
DTSTART:20230312T070000
END:DAYLIGHT
BEGIN:STANDARD
TZOFFSETFROM:-0400
TZOFFSETTO:-0500
TZNAME:EST
DTSTART:20231105T060000
END:STANDARD
BEGIN:DAYLIGHT
TZOFFSETFROM:-0500
TZOFFSETTO:-0400
TZNAME:EDT
DTSTART:20240310T070000
END:DAYLIGHT
BEGIN:STANDARD
TZOFFSETFROM:-0400
TZOFFSETTO:-0500
TZNAME:EST
DTSTART:20241103T060000
END:STANDARD
END:VTIMEZONE
BEGIN:VEVENT
DTSTART;TZID=America/New_York:20230324T080000
DTEND;TZID=America/New_York:20230326T170000
DTSTAMP:20260421T165210
CREATED:20230310T134954Z
LAST-MODIFIED:20230310T135032Z
UID:5208-1679644800-1679850000@loudounequine.org
SUMMARY:Piedmont Fox Hounds Sporting Weekend
DESCRIPTION:The Piedmont Fox Hounds will host a Sporting Weekend March 24-26\, 2023 in Upperville\, Virgina. Foxhunters from across the land are invited to spend three days with Piedmont to hunt\, socialize\, attend the PFH Point-to-Point and compete in the PFH Hunter Pairs competition.\nThe weekend kicks off on Friday\, March 24\, 2023 with a Private Hunt through stunning Mellon Country with a tailgate breakfast to follow. That evening\, cocktails\, supper\, and dancing will commence at historic Buchanan Hall in Upperville.\nHeed the call to the post at 12:30 pm Saturday\, March 26 for the 81st Piedmont Fox Hounds Point-to-Point Races\, at Salem Racecourse\, Upperville\, Virginia. Tailgating spaces are available to enjoy the day amongst friends and family.\nThe Weekend concludes with the PFH Hunter Pairs competition on Sunday\, March 26 at Clifton Back Gate\, Upperville\, Virginia. The Hunter Pairs begin promptly at 9 am.
URL:https://loudounequine.org/event/piedmont-fox-hounds-sporting-weekend
LOCATION:Piedmont Fox Hounds\, 21676 Newlin Mill Rd.\, Upperville\, VA\, 20184\, United States
END:VEVENT
END:VCALENDAR