BEGIN:VCALENDAR
VERSION:2.0
PRODID:-//Loudoun County Equine Alliance - ECPv6.15.20//NONSGML v1.0//EN
CALSCALE:GREGORIAN
METHOD:PUBLISH
X-ORIGINAL-URL:https://loudounequine.org
X-WR-CALDESC:Events for Loudoun County Equine Alliance
REFRESH-INTERVAL;VALUE=DURATION:PT1H
X-Robots-Tag:noindex
X-PUBLISHED-TTL:PT1H
BEGIN:VTIMEZONE
TZID:America/New_York
BEGIN:DAYLIGHT
TZOFFSETFROM:-0500
TZOFFSETTO:-0400
TZNAME:EDT
DTSTART:20220313T070000
END:DAYLIGHT
BEGIN:STANDARD
TZOFFSETFROM:-0400
TZOFFSETTO:-0500
TZNAME:EST
DTSTART:20221106T060000
END:STANDARD
BEGIN:DAYLIGHT
TZOFFSETFROM:-0500
TZOFFSETTO:-0400
TZNAME:EDT
DTSTART:20230312T070000
END:DAYLIGHT
BEGIN:STANDARD
TZOFFSETFROM:-0400
TZOFFSETTO:-0500
TZNAME:EST
DTSTART:20231105T060000
END:STANDARD
BEGIN:DAYLIGHT
TZOFFSETFROM:-0500
TZOFFSETTO:-0400
TZNAME:EDT
DTSTART:20240310T070000
END:DAYLIGHT
BEGIN:STANDARD
TZOFFSETFROM:-0400
TZOFFSETTO:-0500
TZNAME:EST
DTSTART:20241103T060000
END:STANDARD
END:VTIMEZONE
BEGIN:VEVENT
DTSTART;TZID=America/New_York:20230324T080000
DTEND;TZID=America/New_York:20230326T170000
DTSTAMP:20260421T165208
CREATED:20230310T134954Z
LAST-MODIFIED:20230310T135032Z
UID:5208-1679644800-1679850000@loudounequine.org
SUMMARY:Piedmont Fox Hounds Sporting Weekend
DESCRIPTION:The Piedmont Fox Hounds will host a Sporting Weekend March 24-26\, 2023 in Upperville\, Virgina. Foxhunters from across the land are invited to spend three days with Piedmont to hunt\, socialize\, attend the PFH Point-to-Point and compete in the PFH Hunter Pairs competition.\nThe weekend kicks off on Friday\, March 24\, 2023 with a Private Hunt through stunning Mellon Country with a tailgate breakfast to follow. That evening\, cocktails\, supper\, and dancing will commence at historic Buchanan Hall in Upperville.\nHeed the call to the post at 12:30 pm Saturday\, March 26 for the 81st Piedmont Fox Hounds Point-to-Point Races\, at Salem Racecourse\, Upperville\, Virginia. Tailgating spaces are available to enjoy the day amongst friends and family.\nThe Weekend concludes with the PFH Hunter Pairs competition on Sunday\, March 26 at Clifton Back Gate\, Upperville\, Virginia. The Hunter Pairs begin promptly at 9 am.
URL:https://loudounequine.org/event/piedmont-fox-hounds-sporting-weekend
LOCATION:Piedmont Fox Hounds\, 21676 Newlin Mill Rd.\, Upperville\, VA\, 20184\, United States
END:VEVENT
BEGIN:VEVENT
DTSTART;TZID=America/New_York:20230325T080000
DTEND;TZID=America/New_York:20230325T150000
DTSTAMP:20260421T165208
CREATED:20230309T201708Z
LAST-MODIFIED:20230309T201738Z
UID:5203-1679731200-1679756400@loudounequine.org
SUMMARY:Dressage Clinic with USDF Gold Medalist\, Brandi Benedict
DESCRIPTION:Please join us for this wonderful clinic with talented rider and horsewoman\, Brandi Benedict of SonRise Dressage in Lovettsville\, VA. Each rider spot is a private\, 45 minute session beginning at 8am. There will be time for Q&A after both the morning sessions and the afternoon sessions. Lunch will take place between sessions and light refreshments will be served. We encourage auditors and participants to stay for multiple riders in order to get the most of out the clinic. \nBrandi’s teaching style is clear and communicative\, allowing you to learn as other riders work on their goals. Whether you are interested in learning a little more about dressage fundamentals or riding your first I1 test this year\, Brandi can help you achieve your goals. CHS is subsidizing some of the cost of this event in hopes of providing more accessible equestrian opportunities in our community. Day stalls are available for $40 so you can comfortably leave your horse while you watch. There is a possibilty of adding up to 2 afternoon spots in this clinic if it fills so stay tuned. CHS Members save $15 on registration for this event by using code CHSDRESSAGE
URL:https://loudounequine.org/event/dressage-clinic-with-usdf-gold-medalist-brandi-benedict
LOCATION:Frying Pan Park\, 2739 West Ox Road\, Herndon\, VA\, 20171\, United States
ORGANIZER;CN="Clifton Horse Society":MAILTO:cliftonhorsesociety@gmail.com
END:VEVENT
BEGIN:VEVENT
DTSTART;TZID=America/New_York:20230325T080000
DTEND;TZID=America/New_York:20230325T170000
DTSTAMP:20260421T165208
CREATED:20230220T212914Z
LAST-MODIFIED:20230220T212914Z
UID:5142-1679731200-1679763600@loudounequine.org
SUMMARY:A Jump Above - Schooling Jumper Show
DESCRIPTION:
URL:https://loudounequine.org/event/a-jump-above-schooling-jumper-show
LOCATION:Great Meadow\, 5089 Old Tavern Rd.\, The Plains\, 20198\, United States
END:VEVENT
END:VCALENDAR