BEGIN:VCALENDAR
VERSION:2.0
PRODID:-//Loudoun County Equine Alliance - ECPv6.15.20//NONSGML v1.0//EN
CALSCALE:GREGORIAN
METHOD:PUBLISH
X-WR-CALNAME:Loudoun County Equine Alliance
X-ORIGINAL-URL:https://loudounequine.org
X-WR-CALDESC:Events for Loudoun County Equine Alliance
REFRESH-INTERVAL;VALUE=DURATION:PT1H
X-Robots-Tag:noindex
X-PUBLISHED-TTL:PT1H
BEGIN:VTIMEZONE
TZID:America/New_York
BEGIN:DAYLIGHT
TZOFFSETFROM:-0500
TZOFFSETTO:-0400
TZNAME:EDT
DTSTART:20200308T070000
END:DAYLIGHT
BEGIN:STANDARD
TZOFFSETFROM:-0400
TZOFFSETTO:-0500
TZNAME:EST
DTSTART:20201101T060000
END:STANDARD
BEGIN:DAYLIGHT
TZOFFSETFROM:-0500
TZOFFSETTO:-0400
TZNAME:EDT
DTSTART:20210314T070000
END:DAYLIGHT
BEGIN:STANDARD
TZOFFSETFROM:-0400
TZOFFSETTO:-0500
TZNAME:EST
DTSTART:20211107T060000
END:STANDARD
BEGIN:DAYLIGHT
TZOFFSETFROM:-0500
TZOFFSETTO:-0400
TZNAME:EDT
DTSTART:20220313T070000
END:DAYLIGHT
BEGIN:STANDARD
TZOFFSETFROM:-0400
TZOFFSETTO:-0500
TZNAME:EST
DTSTART:20221106T060000
END:STANDARD
END:VTIMEZONE
BEGIN:VEVENT
DTSTART;TZID=America/New_York:20211024T080000
DTEND;TZID=America/New_York:20211024T170000
DTSTAMP:20260423T015746
CREATED:20210219T020645Z
LAST-MODIFIED:20210219T020645Z
UID:3555-1635062400-1635094800@loudounequine.org
SUMMARY:Horse Trial at Red Gate Farm
DESCRIPTION:(CDCTA\, MCTA) \n19255 Foggy Bottom Road\, Bluemont\, VA 20135 \nredgatefarmva@aol.com \n(540) 882-3530 \nhttps://www.redgatefarmva.com/horse-shows/outside-show-2013-schedule/
URL:https://loudounequine.org/event/horse-trial-at-red-gate-farm
LOCATION:Red Gate Farm\, 19225 Foggy Bottom Rd.\, Bluemont\, VA\, United States
END:VEVENT
BEGIN:VEVENT
DTSTART;TZID=America/New_York:20211024T080000
DTEND;TZID=America/New_York:20211024T170000
DTSTAMP:20260423T015746
CREATED:20210219T020604Z
LAST-MODIFIED:20210219T020604Z
UID:3553-1635062400-1635094800@loudounequine.org
SUMMARY:Halloween Fun Jumpers (TIP) at Red Gate Farm
DESCRIPTION:19255 Foggy Bottom Road\, Bluemont\, VA 20135 \nredgatefarmva@aol.com \n(540) 882-3530 \nhttps://www.redgatefarmva.com/horse-shows/outside-show-2013-schedule/
URL:https://loudounequine.org/event/halloween-fun-jumpers-tip-at-red-gate-farm
LOCATION:Red Gate Farm\, 19225 Foggy Bottom Rd.\, Bluemont\, VA\, United States
END:VEVENT
BEGIN:VEVENT
DTSTART;TZID=America/New_York:20211023T080000
DTEND;TZID=America/New_York:20211023T170000
DTSTAMP:20260423T015746
CREATED:20210219T020527Z
LAST-MODIFIED:20210219T020527Z
UID:3551-1634976000-1635008400@loudounequine.org
SUMMARY:NOVAWE Fall Fun Show
DESCRIPTION:8 am to 5 pm. \nFrying Pan Park\, Herndon\, VA \nBiddie Lowry \nNOVAWE.blowery@gmail.com \nwww.novawe.org
URL:https://loudounequine.org/event/novawe-fall-fun-show
LOCATION:Frying Pan Park\, 2739 West Ox Road\, Herndon\, VA\, 20171\, United States
ORGANIZER;CN="Northern Virginia Working Equitation":MAILTO:novawe.blowry@gmail.com
END:VEVENT
BEGIN:VEVENT
DTSTART;TZID=America/New_York:20211019T080000
DTEND;TZID=America/New_York:20211019T170000
DTSTAMP:20260423T015746
CREATED:20210219T022403Z
LAST-MODIFIED:20210219T022403Z
UID:3594-1634630400-1634662800@loudounequine.org
SUMMARY:LCEA Board Meeting - virtual meeting
DESCRIPTION:Everyone is welcome.  Please contact LCEA via email at information@louduonequine.org for meeting details
URL:https://loudounequine.org/event/lcea-board-meeting-virtual-meeting-11
LOCATION:VA
END:VEVENT
BEGIN:VEVENT
DTSTART;TZID=America/New_York:20211019T080000
DTEND;TZID=America/New_York:20211019T170000
DTSTAMP:20260423T015746
CREATED:20210219T022236Z
LAST-MODIFIED:20210219T022236Z
UID:3591-1634630400-1634662800@loudounequine.org
SUMMARY:LCEA Board Meeting - virtual meeting
DESCRIPTION:Everyone is welcome.  Please contact LCEA via email at information@louduonequine.org for meeting details
URL:https://loudounequine.org/event/lcea-board-meeting-virtual-meeting-10
LOCATION:VA
END:VEVENT
BEGIN:VEVENT
DTSTART;TZID=America/New_York:20211017T080000
DTEND;TZID=America/New_York:20211017T170000
DTSTAMP:20260423T015746
CREATED:20210219T020445Z
LAST-MODIFIED:20210219T020445Z
UID:3549-1634457600-1634490000@loudounequine.org
SUMMARY:Mitchell Dressage Schooling Show Series
DESCRIPTION:Southern Heritage Farm\, Midland\, VA \nhttps://vadanova.org/show/calendar/index.html
URL:https://loudounequine.org/event/mitchell-dressage-schooling-show-series-7
LOCATION:VA
END:VEVENT
BEGIN:VEVENT
DTSTART;TZID=America/New_York:20211009T080000
DTEND;TZID=America/New_York:20211010T170000
DTSTAMP:20260423T015746
CREATED:20210219T020407Z
LAST-MODIFIED:20210219T020407Z
UID:3547-1633766400-1633885200@loudounequine.org
SUMMARY:Oak Spring Equestrian Working Equitation B-Rated Show
DESCRIPTION:8 am. To 5 pm. \nOak Spring Equestrian – Barb Sullivan \n(443) 745-5067 \nhttps://www.oakspringequestrianllc.com/
URL:https://loudounequine.org/event/oak-spring-equestrian-working-equitation-b-rated-show
LOCATION:Oak Spring Equestrian\, 15195 Bushy Park Rd.\, Woodbine\, MD\, 21797\, United States
END:VEVENT
BEGIN:VEVENT
DTSTART;TZID=America/New_York:20211009T080000
DTEND;TZID=America/New_York:20211009T170000
DTSTAMP:20260423T015746
CREATED:20210219T020323Z
LAST-MODIFIED:20210220T021939Z
UID:3545-1633766400-1633798800@loudounequine.org
SUMMARY:USTR Monthly Trail Ride – Members Only
DESCRIPTION:Andy Guest State Park\, VA \nhttps://ustr.clubexpress.com/content.aspx?page_id=4001&club_id=967876&action=cira
URL:https://loudounequine.org/event/tsrc-monthly-trail-ride-members-only-3
LOCATION:VA
END:VEVENT
BEGIN:VEVENT
DTSTART;TZID=America/New_York:20211006T080000
DTEND;TZID=America/New_York:20211006T170000
DTSTAMP:20260423T015746
CREATED:20210219T020251Z
LAST-MODIFIED:20210219T020251Z
UID:3543-1633507200-1633539600@loudounequine.org
SUMMARY:Beaux Reves Equestrian Dressage Schooling Show
DESCRIPTION:Hamilton\, VA \nhttps://vadanova.org/show/calendar/index.html
URL:https://loudounequine.org/event/beaux-reves-equestrian-dressage-schooling-show-7
LOCATION:Beaux Reves Equestrian\, 15929 Hampton Rd.\, Hamilton\, VA\, United States
END:VEVENT
BEGIN:VEVENT
DTSTART;TZID=America/New_York:20210926T080000
DTEND;TZID=America/New_York:20210926T170000
DTSTAMP:20260423T015746
CREATED:20210219T020159Z
LAST-MODIFIED:20210219T020159Z
UID:3541-1632643200-1632675600@loudounequine.org
SUMMARY:Homestead Horse Farm Dressage Schooling Show
DESCRIPTION:Catlett\, VA \nhttps://vadanova.org/show/calendar/index.html
URL:https://loudounequine.org/event/homestead-horse-farm-dressage-schooling-show-2
LOCATION:VA
END:VEVENT
BEGIN:VEVENT
DTSTART;TZID=America/New_York:20210925T080000
DTEND;TZID=America/New_York:20210925T170000
DTSTAMP:20260423T015746
CREATED:20210219T020127Z
LAST-MODIFIED:20210219T020127Z
UID:3539-1632556800-1632589200@loudounequine.org
SUMMARY:Mitchell Dressage Schooling Show Series
DESCRIPTION:Southern Heritage Farm\, Midland\, VA \nhttps://vadanova.org/show/calendar/index.html
URL:https://loudounequine.org/event/mitchell-dressage-schooling-show-series-6
LOCATION:VA
END:VEVENT
BEGIN:VEVENT
DTSTART;TZID=America/New_York:20210921T080000
DTEND;TZID=America/New_York:20210921T170000
DTSTAMP:20260423T015746
CREATED:20210219T022155Z
LAST-MODIFIED:20210219T022155Z
UID:3589-1632211200-1632243600@loudounequine.org
SUMMARY:LCEA Board Meeting - virtual meeting
DESCRIPTION:Everyone is welcome.  Please contact LCEA via email at information@louduonequine.org for meeting details
URL:https://loudounequine.org/event/lcea-board-meeting-virtual-meeting-9
LOCATION:VA
END:VEVENT
BEGIN:VEVENT
DTSTART;TZID=America/New_York:20210919T080000
DTEND;TZID=America/New_York:20210919T170000
DTSTAMP:20260423T015746
CREATED:20210219T020050Z
LAST-MODIFIED:20210219T020050Z
UID:3537-1632038400-1632070800@loudounequine.org
SUMMARY:By Chance Farn Dressage Schooling Show
DESCRIPTION:By Chance Farm\, Union Bridge\, MD \nhttps://vadanova.org/show/calendar/index.html
URL:https://loudounequine.org/event/by-chance-farn-dressage-schooling-show
LOCATION:VA
END:VEVENT
BEGIN:VEVENT
DTSTART;TZID=America/New_York:20210919T080000
DTEND;TZID=America/New_York:20210919T170000
DTSTAMP:20260423T015746
CREATED:20210219T020026Z
LAST-MODIFIED:20210219T020026Z
UID:3535-1632038400-1632070800@loudounequine.org
SUMMARY:Fun Jumper Show and Starter Horse Trial at Red Gate Farm
DESCRIPTION:19255 Foggy Bottom Road\, Bluemont\, VA 20135 \nredgatefarmva@aol.com \n(540) 882-3530 \nhttps://www.redgatefarmva.com/horse-shows/outside-show-2013-schedule/
URL:https://loudounequine.org/event/fun-jumper-show-and-starter-horse-trial-at-red-gate-farm
LOCATION:Red Gate Farm\, 19225 Foggy Bottom Rd.\, Bluemont\, VA\, United States
END:VEVENT
BEGIN:VEVENT
DTSTART;TZID=America/New_York:20210912T080000
DTEND;TZID=America/New_York:20210912T170000
DTSTAMP:20260423T015746
CREATED:20210219T015912Z
LAST-MODIFIED:20210219T015912Z
UID:3533-1631433600-1631466000@loudounequine.org
SUMMARY:Mitchell Dressage Schooling Show Series
DESCRIPTION:Southern Heritage Farm\, Midland\, VA \nhttps://vadanova.org/show/calendar/index.htmleded
URL:https://loudounequine.org/event/mitchell-dressage-schooling-show-series-5
LOCATION:Red Gate Farm\, 19225 Foggy Bottom Rd.\, Bluemont\, VA\, United States
END:VEVENT
BEGIN:VEVENT
DTSTART;TZID=America/New_York:20210912T080000
DTEND;TZID=America/New_York:20210912T170000
DTSTAMP:20260423T015746
CREATED:20210219T015828Z
LAST-MODIFIED:20210219T015828Z
UID:3531-1631433600-1631466000@loudounequine.org
SUMMARY:Red Gate Farm Hunter Show
DESCRIPTION:(VHSA\, BHSA\, DCAHSA\, TIP) \n19255 Foggy Bottom Road\, Bluemont\, VA 20135 \nredgatefarmva@aol.com \n(540) 882-3530 \nhttps://www.redgatefarmva.com/horse-shows/outside-show-2013-schedule/
URL:https://loudounequine.org/event/red-gate-farm-hunter-show-21
LOCATION:Red Gate Farm\, 19225 Foggy Bottom Rd.\, Bluemont\, VA\, United States
END:VEVENT
BEGIN:VEVENT
DTSTART;TZID=America/New_York:20210911T080000
DTEND;TZID=America/New_York:20210911T170000
DTSTAMP:20260423T015746
CREATED:20210219T015757Z
LAST-MODIFIED:20210220T022004Z
UID:3529-1631347200-1631379600@loudounequine.org
SUMMARY:USTR Monthly Trail Ride – Members Only
DESCRIPTION:Sky Meadows State Park\, VA \nhttps://ustr.clubexpress.com/content.aspx?page_id=4001&club_id=967876&action=cira
URL:https://loudounequine.org/event/tsrc-monthly-trail-ride-members-only-2
LOCATION:VA
END:VEVENT
BEGIN:VEVENT
DTSTART;TZID=America/New_York:20210904T080000
DTEND;TZID=America/New_York:20210904T170000
DTSTAMP:20260423T015746
CREATED:20210219T015708Z
LAST-MODIFIED:20210319T134049Z
UID:3527-1630742400-1630774800@loudounequine.org
SUMMARY:Southern States Purcellville Summer Show Series 2021
DESCRIPTION:Hunter and Hunter Derby classes \nhttps://www.morvenpark.org/equestrian-center/summer-show-series.html \nEqOffice@MorvenPark.org
URL:https://loudounequine.org/event/morven-park-summer-show-series-8
LOCATION:Morven Park Equestrian Center\,  Morven Park Equestrian Center\, 41580 Sunday Morning Lane\, Leesburg\, VA\, 20176\, United States
END:VEVENT
BEGIN:VEVENT
DTSTART;TZID=America/New_York:20210901T080000
DTEND;TZID=America/New_York:20210901T170000
DTSTAMP:20260423T015746
CREATED:20210219T015608Z
LAST-MODIFIED:20210219T015608Z
UID:3525-1630483200-1630515600@loudounequine.org
SUMMARY:Beaux Reves Equestrian Dressage Schooling Show
DESCRIPTION:Hamilton\, VA \nhttps://vadanova.org/show/calendar/index.html
URL:https://loudounequine.org/event/beaux-reves-equestrian-dressage-schooling-show-6
LOCATION:Red Gate Farm\, 19225 Foggy Bottom Rd.\, Bluemont\, VA\, United States
END:VEVENT
BEGIN:VEVENT
DTSTART;TZID=America/New_York:20210901T080000
DTEND;TZID=America/New_York:20210901T170000
DTSTAMP:20260423T015746
CREATED:20210219T015535Z
LAST-MODIFIED:20210219T015535Z
UID:3523-1630483200-1630515600@loudounequine.org
SUMMARY:Evening Fun Jumpers at Red Gate Farm
DESCRIPTION:19255 Foggy Bottom Road\, Bluemont\, VA 20135 \nredgatefarmva@aol.com \n(540) 882-3530 \nhttps://www.redgatefarmva.com/horse-shows/outside-show-2013-schedule/
URL:https://loudounequine.org/event/evening-fun-jumpers-at-red-gate-farm-2
LOCATION:Red Gate Farm\, 19225 Foggy Bottom Rd.\, Bluemont\, VA\, United States
END:VEVENT
BEGIN:VEVENT
DTSTART;TZID=America/New_York:20210828T080000
DTEND;TZID=America/New_York:20210829T170000
DTSTAMP:20260423T015746
CREATED:20210219T015459Z
LAST-MODIFIED:20210219T015459Z
UID:3521-1630137600-1630256400@loudounequine.org
SUMMARY:VADA/Nova Summer Wind Down I Licensed Show
DESCRIPTION:Morven Park\, Leesburg\, VA \nhttps://vadanova.org/show/calendar/index.html
URL:https://loudounequine.org/event/vada-nova-summer-wind-down-i-licensed-show
LOCATION:Morven Park Equestrian Center\,  Morven Park Equestrian Center\, 41580 Sunday Morning Lane\, Leesburg\, VA\, 20176\, United States
END:VEVENT
BEGIN:VEVENT
DTSTART;TZID=America/New_York:20210824T080000
DTEND;TZID=America/New_York:20210824T170000
DTSTAMP:20260423T015746
CREATED:20210219T022129Z
LAST-MODIFIED:20210219T022129Z
UID:3587-1629792000-1629824400@loudounequine.org
SUMMARY:LCEA Board Meeting - virtual meeting
DESCRIPTION:Everyone is welcome.  Please contact LCEA via email at information@louduonequine.org for meeting details
URL:https://loudounequine.org/event/lcea-board-meeting-virtual-meeting-8
LOCATION:VA
END:VEVENT
BEGIN:VEVENT
DTSTART;TZID=America/New_York:20210822T080000
DTEND;TZID=America/New_York:20210822T170000
DTSTAMP:20260423T015746
CREATED:20210219T015419Z
LAST-MODIFIED:20210219T015419Z
UID:3519-1629619200-1629651600@loudounequine.org
SUMMARY:By Chance Farm Dressage Schooling Show
DESCRIPTION:By Chance Farm\, Union Bridge\, MD \nhttps://vadanova.org/show/calendar/index.html
URL:https://loudounequine.org/event/by-chance-farm-dressage-schooling-show-6
LOCATION:VA
END:VEVENT
BEGIN:VEVENT
DTSTART;TZID=America/New_York:20210821T080000
DTEND;TZID=America/New_York:20210821T170000
DTSTAMP:20260423T015746
CREATED:20210219T015341Z
LAST-MODIFIED:20210219T015341Z
UID:3517-1629532800-1629565200@loudounequine.org
SUMMARY:Mitchell Dressage Schooling Show Series
DESCRIPTION:Southern Heritage Farm\, Midland\, VA \nhttps://vadanova.org/show/calendar/index.html
URL:https://loudounequine.org/event/mitchell-dressage-schooling-show-series-4
LOCATION:VA
END:VEVENT
BEGIN:VEVENT
DTSTART;TZID=America/New_York:20210815T080000
DTEND;TZID=America/New_York:20210815T170000
DTSTAMP:20260423T015746
CREATED:20210219T015223Z
LAST-MODIFIED:20210219T015223Z
UID:3513-1629014400-1629046800@loudounequine.org
SUMMARY:Beaux Reves Equestrian Dressage Schooling Show and Combined Test
DESCRIPTION:Hamilton\, VA \nhttps://vadanova.org/show/calendar/index.html
URL:https://loudounequine.org/event/beaux-reves-equestrian-dressage-schooling-show-and-combined-test
LOCATION:Beaux Reves Equestrian\, 15929 Hampton Rd.\, Hamilton\, VA\, United States
END:VEVENT
BEGIN:VEVENT
DTSTART;TZID=America/New_York:20210808T080000
DTEND;TZID=America/New_York:20210808T170000
DTSTAMP:20260423T015746
CREATED:20210219T015145Z
LAST-MODIFIED:20210219T015145Z
UID:3511-1628409600-1628442000@loudounequine.org
SUMMARY:Red Gate Farm Hunter Show
DESCRIPTION:(VHSA\, BHSA\, DCAHSA\, TIP) \n19255 Foggy Bottom Road\, Bluemont\, VA 20135 \nredgatefarmva@aol.com \n(540) 882-3530 \nhttps://www.redgatefarmva.com/horse-shows/outside-show-2013-schedule/
URL:https://loudounequine.org/event/red-gate-farm-hunter-show-20
LOCATION:Red Gate Farm\, 19225 Foggy Bottom Rd.\, Bluemont\, VA\, United States
END:VEVENT
BEGIN:VEVENT
DTSTART;TZID=America/New_York:20210807T080000
DTEND;TZID=America/New_York:20210807T170000
DTSTAMP:20260423T015746
CREATED:20210219T015107Z
LAST-MODIFIED:20210219T015107Z
UID:3509-1628323200-1628355600@loudounequine.org
SUMMARY:VADA/Nova Dressage Schooling Show
DESCRIPTION:Morven Park\, Leesburg\, VA \nhttps://vadanova.org/show/calendar/index.html
URL:https://loudounequine.org/event/vada-nova-dressage-schooling-show-6
LOCATION:Morven Park Equestrian Center\,  Morven Park Equestrian Center\, 41580 Sunday Morning Lane\, Leesburg\, VA\, 20176\, United States
END:VEVENT
BEGIN:VEVENT
DTSTART;TZID=America/New_York:20210807T080000
DTEND;TZID=America/New_York:20210807T170000
DTSTAMP:20260423T015746
CREATED:20210219T014904Z
LAST-MODIFIED:20210219T014904Z
UID:3507-1628323200-1628355600@loudounequine.org
SUMMARY:NOVAWE Working Equitation Clinic with Allison Reed
DESCRIPTION:Biddie Lowry \nNOVAWE.blowery@gmail.com \nwww.novawe.org
URL:https://loudounequine.org/event/novawe-working-equitation-clinic-with-allison-reed
LOCATION:VA
END:VEVENT
BEGIN:VEVENT
DTSTART;TZID=America/New_York:20210805T080000
DTEND;TZID=America/New_York:20210808T170000
DTSTAMP:20260423T015746
CREATED:20210219T014823Z
LAST-MODIFIED:20210220T022016Z
UID:3505-1628150400-1628442000@loudounequine.org
SUMMARY:USTR 2nd Annual Camping Trip – Members Only
DESCRIPTION:Douthat State Park\, VA \nhttps://ustr.clubexpress.com/content.aspx?page_id=4001&club_id=967876&action=cira
URL:https://loudounequine.org/event/tsrc-2nd-annual-camping-trip-members-only
LOCATION:VA
END:VEVENT
BEGIN:VEVENT
DTSTART;TZID=America/New_York:20210804T080000
DTEND;TZID=America/New_York:20210804T170000
DTSTAMP:20260423T015746
CREATED:20210219T014743Z
LAST-MODIFIED:20210219T014743Z
UID:3503-1628064000-1628096400@loudounequine.org
SUMMARY:Beaux Reves Equestrian Dressage Schooling Show
DESCRIPTION:Hamilton\, VA \nhttps://vadanova.org/show/calendar/index.html
URL:https://loudounequine.org/event/beaux-reves-equestrian-dressage-schooling-show-5
LOCATION:Beaux Reves Equestrian\, 15929 Hampton Rd.\, Hamilton\, VA\, United States
END:VEVENT
END:VCALENDAR