BEGIN:VCALENDAR
VERSION:2.0
PRODID:-//Loudoun County Equine Alliance - ECPv6.15.20//NONSGML v1.0//EN
CALSCALE:GREGORIAN
METHOD:PUBLISH
X-WR-CALNAME:Loudoun County Equine Alliance
X-ORIGINAL-URL:https://loudounequine.org
X-WR-CALDESC:Events for Loudoun County Equine Alliance
REFRESH-INTERVAL;VALUE=DURATION:PT1H
X-Robots-Tag:noindex
X-PUBLISHED-TTL:PT1H
BEGIN:VTIMEZONE
TZID:America/New_York
BEGIN:DAYLIGHT
TZOFFSETFROM:-0500
TZOFFSETTO:-0400
TZNAME:EDT
DTSTART:20210314T070000
END:DAYLIGHT
BEGIN:STANDARD
TZOFFSETFROM:-0400
TZOFFSETTO:-0500
TZNAME:EST
DTSTART:20211107T060000
END:STANDARD
BEGIN:DAYLIGHT
TZOFFSETFROM:-0500
TZOFFSETTO:-0400
TZNAME:EDT
DTSTART:20220313T070000
END:DAYLIGHT
BEGIN:STANDARD
TZOFFSETFROM:-0400
TZOFFSETTO:-0500
TZNAME:EST
DTSTART:20221106T060000
END:STANDARD
BEGIN:DAYLIGHT
TZOFFSETFROM:-0500
TZOFFSETTO:-0400
TZNAME:EDT
DTSTART:20230312T070000
END:DAYLIGHT
BEGIN:STANDARD
TZOFFSETFROM:-0400
TZOFFSETTO:-0500
TZNAME:EST
DTSTART:20231105T060000
END:STANDARD
BEGIN:DAYLIGHT
TZOFFSETFROM:-0500
TZOFFSETTO:-0400
TZNAME:EDT
DTSTART:20240310T070000
END:DAYLIGHT
BEGIN:STANDARD
TZOFFSETFROM:-0400
TZOFFSETTO:-0500
TZNAME:EST
DTSTART:20241103T060000
END:STANDARD
END:VTIMEZONE
BEGIN:VEVENT
DTSTART;TZID=America/New_York:20230318T103000
DTEND;TZID=America/New_York:20230318T120000
DTSTAMP:20260421T121301
CREATED:20230306T112715Z
LAST-MODIFIED:20230306T112715Z
UID:5195-1679135400-1679140800@loudounequine.org
SUMMARY:Introduction to Horsemanship
DESCRIPTION:This course introduces the basics of Horses and Horsemanship from the ground. No riding experience needed. We will both discuss with a syllabus and have horses present to assist in learning basic care\, grooming\, behavior\, handling\, anatomy of horses\, and more. Perfect for someone who is interested in fostering a relationship with horses\, either because you have always wanted to enrich/gain knowledge\, or you have a child in riding or therapeutic riding. Spaces are limited. If you indicate you are going\, PLEASE PRIVATE MESSAGE us your email address and we will provide you with registration\, additional information about the class\, & waiver information. A total class fee of $200 for the 3 week\, hour and a half per lesson course\, will be collected via check\, cash\, Zelle\, or Venmo. Class is taught by Bevin Nicholson who has 20+ years experience and has taught at GMU\, as well as experience in the hunter/jumper and dressage ring. Bevin believes in the three C’s- Calm\, Control\, & Confident and can assist you in getting there
URL:https://loudounequine.org/event/introduction-to-horsemanship
LOCATION:C’est Chevaux\, 42748 Edwards Ferry Road\, Leesburg\, Virginia\, United States
END:VEVENT
BEGIN:VEVENT
DTSTART;TZID=America/New_York:20230314T190000
DTEND;TZID=America/New_York:20230314T200000
DTSTAMP:20260421T121301
CREATED:20230121T191551Z
LAST-MODIFIED:20230121T191551Z
UID:4995-1678820400-1678824000@loudounequine.org
SUMMARY:Tuesday Talk "The Scoop on Loose Poop: Equine Diarrhea"
DESCRIPTION:Elizabeth MacDonald\, BVMS\, MS\, DACVIM (LAIM)\nClinical Instructor of Equine Medicine\nDiarrhea in the horse can range from mild chronic diarrhea to acute severe diarrhea. The common causes of diarrhea in the horse will be reviewed\, along with ways to diagnose the underlying cause\, and when to become concerned as an owner
URL:https://loudounequine.org/event/tuesday-talk-the-scoop-on-loose-poop-equine-diarrhea
LOCATION:Marion duPont Scott Equine Medical Center\, 17690 Old Waterford Rd\, Leesburg\, VA\, 20176\, United States
END:VEVENT
BEGIN:VEVENT
DTSTART;TZID=America/New_York:20230311T080000
DTEND;TZID=America/New_York:20230311T170000
DTSTAMP:20260421T121301
CREATED:20230210T150058Z
LAST-MODIFIED:20230210T150058Z
UID:5041-1678521600-1678554000@loudounequine.org
SUMMARY:Starter Horse Trial - Hunt Club Farm
DESCRIPTION:Enter using Evententries.com
URL:https://loudounequine.org/event/starter-horse-trial-hunt-club-farm
LOCATION:Hunt Club Farm\, 294 Longmarsh Road\, Berryville\, VA\, 22611\, United States
END:VEVENT
BEGIN:VEVENT
DTSTART;TZID=America/New_York:20230311T080000
DTEND;TZID=America/New_York:20230311T170000
DTSTAMP:20260421T121301
CREATED:20221221T002358Z
LAST-MODIFIED:20221221T002358Z
UID:4874-1678521600-1678554000@loudounequine.org
SUMMARY:Schooling Days in Morven Park: Jumper Rounds
DESCRIPTION:
URL:https://loudounequine.org/event/schooling-days-in-morven-park-jumper-rounds-2
LOCATION:Morven Park Equestrian Center\,  Morven Park Equestrian Center\, 41580 Sunday Morning Lane\, Leesburg\, VA\, 20176\, United States
END:VEVENT
BEGIN:VEVENT
DTSTART;TZID=America/New_York:20230310T080000
DTEND;TZID=America/New_York:20230313T170000
DTSTAMP:20260421T121301
CREATED:20221221T002929Z
LAST-MODIFIED:20221221T002929Z
UID:4884-1678435200-1678726800@loudounequine.org
SUMMARY:Red Gate Farm NCEL/NCSSEL/JEL Finale Show
DESCRIPTION:
URL:https://loudounequine.org/event/red-gate-farm-ncel-ncssel-jel-finale-show
LOCATION:Red Gate Farm\, 19225 Foggy Bottom Rd.\, Bluemont\, VA\, United States
END:VEVENT
BEGIN:VEVENT
DTSTART;TZID=America/New_York:20230304T100000
DTEND;TZID=America/New_York:20230304T170000
DTSTAMP:20260421T121301
CREATED:20230121T192356Z
LAST-MODIFIED:20230121T192402Z
UID:5005-1677924000-1677949200@loudounequine.org
SUMMARY:NOVAWE Spring Clinic with Mills Smith
DESCRIPTION:Hampton Hill Farm\n15270 Loyalty Road\nWaterford\, VA
URL:https://loudounequine.org/event/novawe-spring-clinic-with-mills-smith
LOCATION:VA
END:VEVENT
BEGIN:VEVENT
DTSTART;TZID=America/New_York:20230304T100000
DTEND;TZID=America/New_York:20230304T130000
DTSTAMP:20260421T121301
CREATED:20230301T110121Z
LAST-MODIFIED:20230301T110121Z
UID:5184-1677924000-1677934800@loudounequine.org
SUMMARY:Open Arena with Riding Far\, LLC
DESCRIPTION:Open Arena events are FREE and open to ANYONE! Our goal is to ride together\, support each other\, and spread the joy of horsemanship!  We invite anyone from any discipline and level to come join us.  \nI’ve been thinking recently about the value in having a strong community\, and even though we have been growing Riding Far\, there are times when I feel isolated within my routine of working with training horses.\nThe clinics we teach foster a wonderful sense of community but are a serious commitment of time as well as money.\nOur goal is to run a regular “Open Arena” event in various locations with the goal to bring people together at low or no cost so we can share our love of horses with one another by creating an environment that is completely supportive and non-judgmental.\nThese events will be open to absolutely anyone who is interested in coming and we will not have any specific objective for the day. At least one of us from Riding Far will always be there to provide support or guidance if you wish it\, but otherwise we just hope to meet you and your horse and have some fun!\nCheck out the flyer below for the details of our first Open Arena event. We hope to see you there!
URL:https://loudounequine.org/event/open-arena-with-riding-far-llc
LOCATION:Lovettsville Community Park\, 12565 Milltown Road\, Lovettsville\, VA\, 20150\, United States
END:VEVENT
BEGIN:VEVENT
DTSTART;TZID=America/New_York:20230302T180000
DTEND;TZID=America/New_York:20230302T193000
DTSTAMP:20260421T121301
CREATED:20230220T212613Z
LAST-MODIFIED:20230220T212613Z
UID:5138-1677780000-1677785400@loudounequine.org
SUMMARY:Equine Gut Health & Hydration Seminar
DESCRIPTION:
URL:https://loudounequine.org/event/equine-gut-health-hydration-seminar
LOCATION:Slater Run Vineyard\, 1500 Crenshaw Rd.\, Upperville\, VA\, United States
END:VEVENT
BEGIN:VEVENT
DTSTART;TZID=America/New_York:20230225T080000
DTEND;TZID=America/New_York:20230225T170000
DTSTAMP:20260421T121301
CREATED:20230220T211631Z
LAST-MODIFIED:20230220T211631Z
UID:5111-1677312000-1677344400@loudounequine.org
SUMMARY:Schooling Days in the Park:  Jumper Rounds
DESCRIPTION:
URL:https://loudounequine.org/event/schooling-days-in-the-park-jumper-rounds
LOCATION:Morven Park Equestrian Center\,  Morven Park Equestrian Center\, 41580 Sunday Morning Lane\, Leesburg\, VA\, 20176\, United States
END:VEVENT
BEGIN:VEVENT
DTSTART;TZID=America/New_York:20230220T080000
DTEND;TZID=America/New_York:20230220T170000
DTSTAMP:20260421T121301
CREATED:20230220T214101Z
LAST-MODIFIED:20230220T214101Z
UID:5169-1676880000-1676912400@loudounequine.org
SUMMARY:Upperville Jump 4 Fun
DESCRIPTION:Held during Upperville Horse Show.  \nJoin us for a day of unrecognized showing at the 170th Upperville Colt & Horse Show.\nAfter receiving great feedback from exhibitors in 2022\, we will offer both Hunter and Jumper classes on Sunday\, June 4\, 2023.\nDownload the prize list here ➡️ https://tinyurl.com/2p83e7ru\nEntries open May 2\, 2023 on horseshowsonline.com.
URL:https://loudounequine.org/event/upperville-jump-4-fun
LOCATION:VA
END:VEVENT
BEGIN:VEVENT
DTSTART;TZID=America/New_York:20230214T190000
DTEND;TZID=America/New_York:20230214T200000
DTSTAMP:20260421T121301
CREATED:20230121T191431Z
LAST-MODIFIED:20230121T191431Z
UID:4992-1676401200-1676404800@loudounequine.org
SUMMARY:Tuesday Talk "Let's Get Moving! Regenerative medicine for orthopedic injuries"
DESCRIPTION:Jennifer Barrett\, DVM\, Ph.D.\, DACVS\, DACVSMR\nTheodora Ayer Randolph Professor of Equine Surgery\nFrom stem cells to blood-based biologics\, the choices for treating tendon\, ligament\, and joint injuries are myriad. Learn the biology behind the therapies\, most notably the evidence supporting their use.
URL:https://loudounequine.org/event/tuesday-talk-lets-get-moving-regenerative-medicine-for-orthopedic-injuries
LOCATION:Marion duPont Scott Equine Medical Center\, 17690 Old Waterford Rd\, Leesburg\, VA\, 20176\, United States
END:VEVENT
BEGIN:VEVENT
DTSTART;TZID=America/New_York:20221228T170000
DTEND;TZID=America/New_York:20221228T180000
DTSTAMP:20260421T121301
CREATED:20220305T024438Z
LAST-MODIFIED:20221221T002035Z
UID:4173-1672246800-1672250400@loudounequine.org
SUMMARY:LCEA Board Meeting
DESCRIPTION:Zoom meeting – email information@loudounequine.org to attend.
URL:https://loudounequine.org/event/lcea-board-meeting-29
LOCATION:VA
END:VEVENT
BEGIN:VEVENT
DTSTART;TZID=America/New_York:20221220T080000
DTEND;TZID=America/New_York:20221220T170000
DTSTAMP:20260421T121301
CREATED:20221221T002319Z
LAST-MODIFIED:20221221T002319Z
UID:4871-1671523200-1671555600@loudounequine.org
SUMMARY:Schooling Days in Morven Park: Jumper Rounds
DESCRIPTION:
URL:https://loudounequine.org/event/schooling-days-in-morven-park-jumper-rounds
LOCATION:Morven Park Equestrian Center\,  Morven Park Equestrian Center\, 41580 Sunday Morning Lane\, Leesburg\, VA\, 20176\, United States
END:VEVENT
BEGIN:VEVENT
DTSTART;TZID=America/New_York:20221113T090000
DTEND;TZID=America/New_York:20221113T150000
DTSTAMP:20260421T121301
CREATED:20220306T192625Z
LAST-MODIFIED:20220306T192625Z
UID:4262-1668330000-1668351600@loudounequine.org
SUMMARY:Schooling Jumper Show and Starter Horse Trial
DESCRIPTION:
URL:https://loudounequine.org/event/schooling-jumper-show-and-starter-horse-trial-2
LOCATION:Red Gate Farm\, 19225 Foggy Bottom Rd.\, Bluemont\, VA\, United States
END:VEVENT
BEGIN:VEVENT
DTSTART;TZID=America/New_York:20221109T170000
DTEND;TZID=America/New_York:20221109T180000
DTSTAMP:20260421T121301
CREATED:20220305T024412Z
LAST-MODIFIED:20220305T024412Z
UID:4170-1668013200-1668016800@loudounequine.org
SUMMARY:LCEA Board Meeting
DESCRIPTION:Zoom meeting – email information@loudounequine.org to attend.
URL:https://loudounequine.org/event/lcea-board-meeting-28
LOCATION:VA
END:VEVENT
BEGIN:VEVENT
DTSTART;TZID=America/New_York:20221023T080000
DTEND;TZID=America/New_York:20221023T170000
DTSTAMP:20260421T121301
CREATED:20220306T195402Z
LAST-MODIFIED:20220306T195402Z
UID:4317-1666512000-1666544400@loudounequine.org
SUMMARY:NOVAWE WE Schooling Show #3
DESCRIPTION:
URL:https://loudounequine.org/event/novawe-we-schooling-show-3
LOCATION:Frying Pan Park\, 2739 West Ox Road\, Herndon\, VA\, 20171\, United States
END:VEVENT
BEGIN:VEVENT
DTSTART;TZID=America/New_York:20221023T080000
DTEND;TZID=America/New_York:20221023T160000
DTSTAMP:20260421T121301
CREATED:20220306T192541Z
LAST-MODIFIED:20220306T192541Z
UID:4259-1666512000-1666540800@loudounequine.org
SUMMARY:Halloween Schooling Jumper Show and Starter Horse Trial
DESCRIPTION:
URL:https://loudounequine.org/event/halloween-schooling-jumper-show-and-starter-horse-trial
LOCATION:Red Gate Farm\, 19225 Foggy Bottom Rd.\, Bluemont\, VA\, United States
END:VEVENT
BEGIN:VEVENT
DTSTART;TZID=America/New_York:20221012T170000
DTEND;TZID=America/New_York:20221012T180000
DTSTAMP:20260421T121301
CREATED:20220305T024345Z
LAST-MODIFIED:20220305T024345Z
UID:4167-1665594000-1665597600@loudounequine.org
SUMMARY:LCEA Board Meeting
DESCRIPTION:Zoom meeting – email information@loudounequine.org to attend.
URL:https://loudounequine.org/event/lcea-board-meeting-27
LOCATION:VA
END:VEVENT
BEGIN:VEVENT
DTSTART;TZID=America/New_York:20221002T080000
DTEND;TZID=America/New_York:20221002T160000
DTSTAMP:20260421T121301
CREATED:20220306T192451Z
LAST-MODIFIED:20220306T192451Z
UID:4256-1664697600-1664726400@loudounequine.org
SUMMARY:Hunter Show at Red Gate Farm
DESCRIPTION:
URL:https://loudounequine.org/event/hunter-show-at-red-gate-farm-4
LOCATION:Red Gate Farm\, 19225 Foggy Bottom Rd.\, Bluemont\, VA\, United States
END:VEVENT
BEGIN:VEVENT
DTSTART;TZID=America/New_York:20220925T080000
DTEND;TZID=America/New_York:20220925T160000
DTSTAMP:20260421T121301
CREATED:20220306T192412Z
LAST-MODIFIED:20220306T192412Z
UID:4253-1664092800-1664121600@loudounequine.org
SUMMARY:Schooling Jumper Show and Starter Horse Trial
DESCRIPTION:at Red Gate Farm
URL:https://loudounequine.org/event/schooling-jumper-show-and-starter-horse-trial
LOCATION:Red Gate Farm\, 19225 Foggy Bottom Rd.\, Bluemont\, VA\, United States
END:VEVENT
BEGIN:VEVENT
DTSTART;TZID=America/New_York:20220918T080000
DTEND;TZID=America/New_York:20220918T170000
DTSTAMP:20260421T121301
CREATED:20220306T195225Z
LAST-MODIFIED:20220306T195225Z
UID:4314-1663488000-1663520400@loudounequine.org
SUMMARY:NOVAWE Working Equitation Clinic #5 with Melissa Smith
DESCRIPTION:
URL:https://loudounequine.org/event/novawe-working-equitation-clinic-5-with-melissa-smith
LOCATION:Almeda Farm\, Berryville\, VA\, United States
ORGANIZER;CN="Northern Virginia Working Equitation":MAILTO:novawe.blowry@gmail.com
END:VEVENT
BEGIN:VEVENT
DTSTART;TZID=America/New_York:20220914T170000
DTEND;TZID=America/New_York:20220914T180000
DTSTAMP:20260421T121301
CREATED:20220305T024316Z
LAST-MODIFIED:20220305T024316Z
UID:4164-1663174800-1663178400@loudounequine.org
SUMMARY:LCEA Board Meeting
DESCRIPTION:Zoom meeting – email information@loudounequine.org to attend.
URL:https://loudounequine.org/event/lcea-board-meeting-26
LOCATION:VA
END:VEVENT
BEGIN:VEVENT
DTSTART;TZID=America/New_York:20220911T080000
DTEND;TZID=America/New_York:20220911T160000
DTSTAMP:20260421T121301
CREATED:20220306T191947Z
LAST-MODIFIED:20220306T191947Z
UID:4250-1662883200-1662912000@loudounequine.org
SUMMARY:Hunter Show at Red Gate Farm
DESCRIPTION:
URL:https://loudounequine.org/event/hunter-show-at-red-gate-farm-3
LOCATION:Red Gate Farm\, 19225 Foggy Bottom Rd.\, Bluemont\, VA\, United States
END:VEVENT
BEGIN:VEVENT
DTSTART;TZID=America/New_York:20220903T080000
DTEND;TZID=America/New_York:20220903T170000
DTSTAMP:20260421T121301
CREATED:20220305T030042Z
LAST-MODIFIED:20220305T030042Z
UID:4216-1662192000-1662224400@loudounequine.org
SUMMARY:Southern States Purcellville Summer Show Series - Morven Park
DESCRIPTION:Click here to download 2022 Prize List\nhttps://www.morvenpark.org/file_download/inline/ddd0195b-cbbc-43c2-b01e-5ee76c64ee99
URL:https://loudounequine.org/event/southern-states-purcellville-summer-show-series-morven-park-8
LOCATION:VA
END:VEVENT
BEGIN:VEVENT
DTSTART;TZID=America/New_York:20220824T183000
DTEND;TZID=America/New_York:20220824T200000
DTSTAMP:20260421T121301
CREATED:20220421T151222Z
LAST-MODIFIED:20220421T153749Z
UID:4826-1661365800-1661371200@loudounequine.org
SUMMARY:VCE's 2022 Equine Nutrition Series: Equine Life Phases with Robin White\, PhD - a virtual event
DESCRIPTION:
URL:https://loudounequine.org/event/vces-2022-equine-nutrition-series-equine-life-phases-with-robin-white-phd-a-virtual-event
LOCATION:Virginia Tech MARE Center\, 5527 Sullivans Road\, Middleburg\, VA\, United States
END:VEVENT
BEGIN:VEVENT
DTSTART;VALUE=DATE:20220820
DTEND;VALUE=DATE:20220822
DTSTAMP:20260421T121301
CREATED:20220329T195220Z
LAST-MODIFIED:20220329T195402Z
UID:4775-1660953600-1661126399@loudounequine.org
SUMMARY:Blue Ridge Brawl at Heartland Polocrosse Club
DESCRIPTION:See all ages and abilities play polocrosse. \nE grade beginners to A grade World Cup competitors\, International Hi-Goal Guests\, youths and adults \nSaturday Night BBQ Dinner & Live Country Music 7:00 PM! \nChukkas all day Saturday 8:00 AM—5:00 PM and Sunday 8:00 AM—3:30 PM \n 
URL:https://loudounequine.org/event/blue-ridge-brawl-at-heartland-polocrosse-club
LOCATION:Heartland Polocrosse Club\, 35805 Allder School Rd.\, Round Hill\, VA\, 20141\, United States
CATEGORIES:Events
ATTACH;FMTTYPE=image/png:https://loudounequine.org/wp-content/uploads/2022/03/Heartland-e1648583629820.png
END:VEVENT
BEGIN:VEVENT
DTSTART;TZID=America/New_York:20220817T160000
DTEND;TZID=America/New_York:20220817T210000
DTSTAMP:20260421T121301
CREATED:20220306T191745Z
LAST-MODIFIED:20220306T191757Z
UID:4244-1660752000-1660770000@loudounequine.org
SUMMARY:Twilight Schooling Jumper Show at Red Gate Farm
DESCRIPTION:
URL:https://loudounequine.org/event/twilight-schooling-jumper-show-at-red-gate-farm
LOCATION:Red Gate Farm\, 19225 Foggy Bottom Rd.\, Bluemont\, VA\, United States
END:VEVENT
BEGIN:VEVENT
DTSTART;TZID=America/New_York:20220814T080000
DTEND;TZID=America/New_York:20220814T170000
DTSTAMP:20260421T121301
CREATED:20220306T195005Z
LAST-MODIFIED:20220306T195005Z
UID:4311-1660464000-1660496400@loudounequine.org
SUMMARY:NOVAWE Working Equitation Schooling Show #2
DESCRIPTION:Judged by Allison Reed.
URL:https://loudounequine.org/event/novawe-working-equitation-schooling-show-2-2
LOCATION:Frying Pan Park\, 2739 West Ox Road\, Herndon\, VA\, 20171\, United States
ORGANIZER;CN="Northern Virginia Working Equitation":MAILTO:novawe.blowry@gmail.com
END:VEVENT
BEGIN:VEVENT
DTSTART;TZID=America/New_York:20220814T080000
DTEND;TZID=America/New_York:20220814T170000
DTSTAMP:20260421T121301
CREATED:20220305T030005Z
LAST-MODIFIED:20220305T030005Z
UID:4213-1660464000-1660496400@loudounequine.org
SUMMARY:Southern States Purcellville Summer Show Series - Morven Park
DESCRIPTION:Click here to download 2022 Prize List\nhttps://www.morvenpark.org/file_download/inline/ddd0195b-cbbc-43c2-b01e-5ee76c64ee99
URL:https://loudounequine.org/event/southern-states-purcellville-summer-show-series-morven-park-7
LOCATION:VA
END:VEVENT
BEGIN:VEVENT
DTSTART;TZID=America/New_York:20220810T170000
DTEND;TZID=America/New_York:20220810T180000
DTSTAMP:20260421T121301
CREATED:20220305T024248Z
LAST-MODIFIED:20220305T024248Z
UID:4161-1660150800-1660154400@loudounequine.org
SUMMARY:LCEA Board Meeting
DESCRIPTION:Zoom meeting – email information@loudounequine.org to attend.
URL:https://loudounequine.org/event/lcea-board-meeting-25
LOCATION:VA
END:VEVENT
END:VCALENDAR