BEGIN:VCALENDAR
VERSION:2.0
PRODID:-//Loudoun County Equine Alliance - ECPv6.15.20//NONSGML v1.0//EN
CALSCALE:GREGORIAN
METHOD:PUBLISH
X-WR-CALNAME:Loudoun County Equine Alliance
X-ORIGINAL-URL:https://loudounequine.org
X-WR-CALDESC:Events for Loudoun County Equine Alliance
REFRESH-INTERVAL;VALUE=DURATION:PT1H
X-Robots-Tag:noindex
X-PUBLISHED-TTL:PT1H
BEGIN:VTIMEZONE
TZID:America/New_York
BEGIN:DAYLIGHT
TZOFFSETFROM:-0500
TZOFFSETTO:-0400
TZNAME:EDT
DTSTART:20210314T070000
END:DAYLIGHT
BEGIN:STANDARD
TZOFFSETFROM:-0400
TZOFFSETTO:-0500
TZNAME:EST
DTSTART:20211107T060000
END:STANDARD
BEGIN:DAYLIGHT
TZOFFSETFROM:-0500
TZOFFSETTO:-0400
TZNAME:EDT
DTSTART:20220313T070000
END:DAYLIGHT
BEGIN:STANDARD
TZOFFSETFROM:-0400
TZOFFSETTO:-0500
TZNAME:EST
DTSTART:20221106T060000
END:STANDARD
BEGIN:DAYLIGHT
TZOFFSETFROM:-0500
TZOFFSETTO:-0400
TZNAME:EDT
DTSTART:20230312T070000
END:DAYLIGHT
BEGIN:STANDARD
TZOFFSETFROM:-0400
TZOFFSETTO:-0500
TZNAME:EST
DTSTART:20231105T060000
END:STANDARD
END:VTIMEZONE
BEGIN:VEVENT
DTSTART;TZID=America/New_York:20220727T160000
DTEND;TZID=America/New_York:20220727T210000
DTSTAMP:20260421T181339
CREATED:20220306T191656Z
LAST-MODIFIED:20220306T191656Z
UID:4241-1658937600-1658955600@loudounequine.org
SUMMARY:Twilight Schooling Jumper Show
DESCRIPTION:
URL:https://loudounequine.org/event/twilight-schooling-jumper-show
LOCATION:Red Gate Farm\, 19225 Foggy Bottom Rd.\, Bluemont\, VA\, United States
END:VEVENT
BEGIN:VEVENT
DTSTART;TZID=America/New_York:20220726T183000
DTEND;TZID=America/New_York:20220726T183000
DTSTAMP:20260421T181339
CREATED:20220421T151122Z
LAST-MODIFIED:20220421T151122Z
UID:4823-1658860200-1658860200@loudounequine.org
SUMMARY:VCE's 2022 Equine Nutrition Series:  Equine Feed Lables with Jeff Semler - a virtual event
DESCRIPTION:
URL:https://loudounequine.org/event/vces-2022-equine-nutrition-series-equine-feed-lables-with-jeff-semler-a-virtual-event
LOCATION:Virginia Tech MARE Center\, 5527 Sullivans Road\, Middleburg\, VA\, United States
END:VEVENT
BEGIN:VEVENT
DTSTART;TZID=America/New_York:20220724T080000
DTEND;TZID=America/New_York:20220724T160000
DTSTAMP:20260421T181339
CREATED:20220306T191614Z
LAST-MODIFIED:20220306T191614Z
UID:4238-1658649600-1658678400@loudounequine.org
SUMMARY:Hunter Show at Red Gate Farm
DESCRIPTION:
URL:https://loudounequine.org/event/hunter-show-at-red-gate-farm
LOCATION:Red Gate Farm\, 19225 Foggy Bottom Rd.\, Bluemont\, VA\, United States
END:VEVENT
BEGIN:VEVENT
DTSTART;TZID=America/New_York:20220716T080000
DTEND;TZID=America/New_York:20220716T170000
DTSTAMP:20260421T181339
CREATED:20220306T194837Z
LAST-MODIFIED:20220306T194837Z
UID:4308-1657958400-1657990800@loudounequine.org
SUMMARY:OSE Summertime Fun WE Licensed Show
DESCRIPTION:
URL:https://loudounequine.org/event/ose-summertime-fun-we-licensed-show
LOCATION:Oak Spring Equestrian\, 15195 Bushy Park Rd.\, Woodbine\, MD\, 21797\, United States
END:VEVENT
BEGIN:VEVENT
DTSTART;TZID=America/New_York:20220714T080000
DTEND;TZID=America/New_York:20220715T170000
DTSTAMP:20260421T181339
CREATED:20220306T194754Z
LAST-MODIFIED:20220306T194754Z
UID:4305-1657785600-1657904400@loudounequine.org
SUMMARY:OSE Working Equitation Clinic with Susan Watkins
DESCRIPTION:
URL:https://loudounequine.org/event/ose-working-equitation-clinic-with-susan-watkins
LOCATION:Oak Spring Equestrian\, 15195 Bushy Park Rd.\, Woodbine\, MD\, 21797\, United States
END:VEVENT
BEGIN:VEVENT
DTSTART;TZID=America/New_York:20220713T170000
DTEND;TZID=America/New_York:20220713T180000
DTSTAMP:20260421T181339
CREATED:20220305T024219Z
LAST-MODIFIED:20220305T024219Z
UID:4158-1657731600-1657735200@loudounequine.org
SUMMARY:LCEA Board Meeting
DESCRIPTION:Zoom meeting – email information@loudounequine.org to attend.
URL:https://loudounequine.org/event/lcea-board-meeting-24
LOCATION:VA
END:VEVENT
BEGIN:VEVENT
DTSTART;TZID=America/New_York:20220710T080000
DTEND;TZID=America/New_York:20220710T170000
DTSTAMP:20260421T181339
CREATED:20220305T025932Z
LAST-MODIFIED:20220305T025932Z
UID:4210-1657440000-1657472400@loudounequine.org
SUMMARY:Southern States Purcellville Summer Show Series - Morven Park
DESCRIPTION:Click here to download 2022 Prize List\nhttps://www.morvenpark.org/file_download/inline/ddd0195b-cbbc-43c2-b01e-5ee76c64ee99
URL:https://loudounequine.org/event/southern-states-purcellville-summer-show-series-morven-park-6
LOCATION:VA
END:VEVENT
BEGIN:VEVENT
DTSTART;TZID=America/New_York:20220709T080000
DTEND;TZID=America/New_York:20220709T170000
DTSTAMP:20260421T181339
CREATED:20220306T194652Z
LAST-MODIFIED:20220306T194652Z
UID:4302-1657353600-1657386000@loudounequine.org
SUMMARY:NOVAWE Working Equitation Clinic #2 with Meghan Truppner
DESCRIPTION:
URL:https://loudounequine.org/event/novawe-working-equitation-clinic-2-with-meghan-truppner
LOCATION:Almeda Farm\, Berryville\, VA\, United States
ORGANIZER;CN="Northern Virginia Working Equitation":MAILTO:novawe.blowry@gmail.com
END:VEVENT
BEGIN:VEVENT
DTSTART;TZID=America/New_York:20220625T080000
DTEND;TZID=America/New_York:20220625T170000
DTSTAMP:20260421T181339
CREATED:20220305T025900Z
LAST-MODIFIED:20220305T025900Z
UID:4207-1656144000-1656176400@loudounequine.org
SUMMARY:Southern States Purcellville Summer Show Series - Morven Park
DESCRIPTION:Click here to download 2022 Prize List\nhttps://www.morvenpark.org/file_download/inline/ddd0195b-cbbc-43c2-b01e-5ee76c64ee99
URL:https://loudounequine.org/event/southern-states-purcellville-summer-show-series-morven-park-5
LOCATION:VA
END:VEVENT
BEGIN:VEVENT
DTSTART;TZID=America/New_York:20220622T160000
DTEND;TZID=America/New_York:20220622T210000
DTSTAMP:20260421T181339
CREATED:20220305T030518Z
LAST-MODIFIED:20220305T030518Z
UID:4229-1655913600-1655931600@loudounequine.org
SUMMARY:Red Gate Farm Twilight Schooling Jumper Show
DESCRIPTION:
URL:https://loudounequine.org/event/red-gate-farm-twilight-schooling-jumper-show
LOCATION:Red Gate Farm\, 19225 Foggy Bottom Rd.\, Bluemont\, VA\, United States
END:VEVENT
BEGIN:VEVENT
DTSTART;TZID=America/New_York:20220621T183000
DTEND;TZID=America/New_York:20220621T200000
DTSTAMP:20260421T181339
CREATED:20220421T150839Z
LAST-MODIFIED:20220421T150839Z
UID:4818-1655836200-1655841600@loudounequine.org
SUMMARY:VCE's 2022 Equine Nutrition Series:  Supplements with Kristine Ely - a virtual event
DESCRIPTION:
URL:https://loudounequine.org/event/vces-2022-equine-nutrition-series-supplements-with-kristine-ely-a-virtual-event
LOCATION:Virginia Tech MARE Center\, 5527 Sullivans Road\, Middleburg\, VA\, United States
END:VEVENT
BEGIN:VEVENT
DTSTART;TZID=America/New_York:20220616T090000
DTEND;TZID=America/New_York:20220617T170000
DTSTAMP:20260421T181339
CREATED:20220306T194504Z
LAST-MODIFIED:20220306T194504Z
UID:4299-1655370000-1655485200@loudounequine.org
SUMMARY:NOVAWE Working Equitation Clinic with Susan Watkins
DESCRIPTION:Frying
URL:https://loudounequine.org/event/novawe-working-equitation-clinic-with-susan-watkins
LOCATION:Frying Pan Park\, 2739 West Ox Road\, Herndon\, VA\, 20171\, United States
ORGANIZER;CN="Northern Virginia Working Equitation":MAILTO:novawe.blowry@gmail.com
END:VEVENT
BEGIN:VEVENT
DTSTART;TZID=America/New_York:20220613T160000
DTEND;TZID=America/New_York:20220613T210000
DTSTAMP:20260421T181339
CREATED:20220306T191539Z
LAST-MODIFIED:20220306T191539Z
UID:4235-1655136000-1655154000@loudounequine.org
SUMMARY:Twilight Schooling Jumper Show - Red Gate Farm
DESCRIPTION:
URL:https://loudounequine.org/event/twilight-schooling-jumper-show-red-gate-farm
LOCATION:Red Gate Farm\, 19225 Foggy Bottom Rd.\, Bluemont\, VA\, United States
END:VEVENT
BEGIN:VEVENT
DTSTART;TZID=America/New_York:20220613T160000
DTEND;TZID=America/New_York:20220613T210000
DTSTAMP:20260421T181339
CREATED:20220305T030604Z
LAST-MODIFIED:20220305T030604Z
UID:4232-1655136000-1655154000@loudounequine.org
SUMMARY:Red Gate Farm Twilight Schooling Jumper Show
DESCRIPTION:
URL:https://loudounequine.org/event/red-gate-farm-twilight-schooling-jumper-show-2
LOCATION:Red Gate Farm\, 19225 Foggy Bottom Rd.\, Bluemont\, VA\, United States
END:VEVENT
BEGIN:VEVENT
DTSTART;TZID=America/New_York:20220611T080000
DTEND;TZID=America/New_York:20220611T170000
DTSTAMP:20260421T181339
CREATED:20220306T193723Z
LAST-MODIFIED:20220306T193723Z
UID:4289-1654934400-1654966800@loudounequine.org
SUMMARY:OSE Working Equitation Schooling Show #1
DESCRIPTION:
URL:https://loudounequine.org/event/ose-working-equitation-schooling-show-1
LOCATION:Oak Spring Equestrian\, 15195 Bushy Park Rd.\, Woodbine\, MD\, 21797\, United States
END:VEVENT
BEGIN:VEVENT
DTSTART;TZID=America/New_York:20220608T170000
DTEND;TZID=America/New_York:20220608T180000
DTSTAMP:20260421T181339
CREATED:20220305T024148Z
LAST-MODIFIED:20220305T024148Z
UID:4155-1654707600-1654711200@loudounequine.org
SUMMARY:LCEA Board Meeting
DESCRIPTION:Zoom meeting – email information@loudounequine.org to attend.
URL:https://loudounequine.org/event/lcea-board-meeting-23
LOCATION:VA
END:VEVENT
BEGIN:VEVENT
DTSTART;TZID=America/New_York:20220604T080000
DTEND;TZID=America/New_York:20220604T170000
DTSTAMP:20260421T181339
CREATED:20220306T193628Z
LAST-MODIFIED:20220306T194045Z
UID:4286-1654329600-1654362000@loudounequine.org
SUMMARY:OSE Working Equitation Clinic with Allison Reed
DESCRIPTION:
URL:https://loudounequine.org/event/working-equitation-clinic-with-allison-reed
LOCATION:Oak Spring Equestrian\, 15195 Bushy Park Rd.\, Woodbine\, MD\, 21797\, United States
END:VEVENT
BEGIN:VEVENT
DTSTART;TZID=America/New_York:20220604T080000
DTEND;TZID=America/New_York:20220604T170000
DTSTAMP:20260421T181339
CREATED:20220305T025740Z
LAST-MODIFIED:20220305T025759Z
UID:4204-1654329600-1654362000@loudounequine.org
SUMMARY:Southern States Purcellville Summer Show Series - Morven Park
DESCRIPTION:Click here to download 2022 Prize List\nhttps://www.morvenpark.org/file_download/inline/ddd0195b-cbbc-43c2-b01e-5ee76c64ee99
URL:https://loudounequine.org/event/southern-states-purcellville-summer-show-series-morven-park-4
LOCATION:VA
END:VEVENT
BEGIN:VEVENT
DTSTART;TZID=America/New_York:20220528T080000
DTEND;TZID=America/New_York:20220528T170000
DTSTAMP:20260421T181339
CREATED:20220306T193525Z
LAST-MODIFIED:20220306T194032Z
UID:4283-1653724800-1653757200@loudounequine.org
SUMMARY:NOVAWE Working Equitation Schooling Show #1
DESCRIPTION:
URL:https://loudounequine.org/event/working-equitation-schooling-show-2
LOCATION:Frying Pan Park\, 2739 West Ox Road\, Herndon\, VA\, 20171\, United States
ORGANIZER;CN="Northern Virginia Working Equitation":MAILTO:novawe.blowry@gmail.com
END:VEVENT
BEGIN:VEVENT
DTSTART;TZID=America/New_York:20220521T170000
DTEND;TZID=America/New_York:20220521T210000
DTSTAMP:20260421T181339
CREATED:20220413T135749Z
LAST-MODIFIED:20220413T135749Z
UID:4788-1653152400-1653166800@loudounequine.org
SUMMARY:Boots & Bridles Barn Dance
DESCRIPTION:Loudoun Therapeutic Fundraiser\nJoin us for an evening of square dancing\, a delicious dinner catered by Magnolia’s at the Mill\, and fundraising for Loudoun Therapeutic Riding at our new home in Lovettsville. \nVisit the horses in the barn\, enjoy a signature cocktail\, bid on exciting local live and silent auction items\, and bring your fanciest footwear for the “Best Boots” contest! \nYou don’t want to miss the first ever signature fundraising event at Loudoun Therapeutic Riding’s new forever home.
URL:https://loudounequine.org/event/boots-bridles-barn-dance
LOCATION:Loudoun Therapeutic Riding\, 14490 Berlin Turnpike\, Lovettsville\, Virginia\, 20180
CATEGORIES:Events
END:VEVENT
BEGIN:VEVENT
DTSTART;TZID=America/New_York:20220521T080000
DTEND;TZID=America/New_York:20220521T170000
DTSTAMP:20260421T181339
CREATED:20220305T025625Z
LAST-MODIFIED:20220305T025625Z
UID:4198-1653120000-1653152400@loudounequine.org
SUMMARY:Southern States Purcellville Summer Show Series - Morven Park
DESCRIPTION:Click here to download 2022 Prize List\nhttps://www.morvenpark.org/file_download/inline/ddd0195b-cbbc-43c2-b01e-5ee76c64ee99
URL:https://loudounequine.org/event/southern-states-purcellville-summer-show-series-morven-park-2
LOCATION:VA
END:VEVENT
BEGIN:VEVENT
DTSTART;TZID=America/New_York:20220517T183000
DTEND;TZID=America/New_York:20220517T200000
DTSTAMP:20260421T181339
CREATED:20220421T150727Z
LAST-MODIFIED:20220421T151015Z
UID:4815-1652812200-1652817600@loudounequine.org
SUMMARY:VCE's 2022 Equine Nutrition Series: Forage Management with Amanda Grev\, PHD - virtual event
DESCRIPTION:
URL:https://loudounequine.org/event/forage-management-with-amanda-grev-phd-virtual-event
LOCATION:Virginia Tech MARE Center\, 5527 Sullivans Road\, Middleburg\, VA\, United States
END:VEVENT
BEGIN:VEVENT
DTSTART;TZID=America/New_York:20220515T080000
DTEND;TZID=America/New_York:20220515T170000
DTSTAMP:20260421T181339
CREATED:20220305T030426Z
LAST-MODIFIED:20220305T030426Z
UID:4226-1652601600-1652634000@loudounequine.org
SUMMARY:Red Gate Farm Schooling Jumper Show and Starter Horse Trial
DESCRIPTION:
URL:https://loudounequine.org/event/red-gate-farm-schooling-jumper-show-and-starter-horse-trial
LOCATION:Red Gate Farm\, 19225 Foggy Bottom Rd.\, Bluemont\, VA\, United States
END:VEVENT
BEGIN:VEVENT
DTSTART;TZID=America/New_York:20220514T100000
DTEND;TZID=America/New_York:20220514T140000
DTSTAMP:20260421T181339
CREATED:20220310T155433Z
LAST-MODIFIED:20220310T160935Z
UID:4535-1652522400-1652536800@loudounequine.org
SUMMARY:Trailer Safety Seminar
DESCRIPTION:hosted by The Virginia Tech M.A.R.E. Center
URL:https://loudounequine.org/event/trailer-safety-seminar
LOCATION:The Virginia Tech M.A.R.E. Center\, 5527 Sullivans Mill Road\, Middleburg\, Virginia\, 20117
END:VEVENT
BEGIN:VEVENT
DTSTART;TZID=America/New_York:20220511T170000
DTEND;TZID=America/New_York:20220511T180000
DTSTAMP:20260421T181339
CREATED:20220305T024110Z
LAST-MODIFIED:20220305T024110Z
UID:4152-1652288400-1652292000@loudounequine.org
SUMMARY:LCEA Board Meeting
DESCRIPTION:Zoom meeting – email information@loudounequine.org to attend.
URL:https://loudounequine.org/event/lcea-board-meeting-22
LOCATION:VA
END:VEVENT
BEGIN:VEVENT
DTSTART;TZID=America/New_York:20220501T080000
DTEND;TZID=America/New_York:20220501T160000
DTSTAMP:20260421T181339
CREATED:20220305T030347Z
LAST-MODIFIED:20220305T030347Z
UID:4223-1651392000-1651420800@loudounequine.org
SUMMARY:Red Gate Farm Hunter Show
DESCRIPTION:
URL:https://loudounequine.org/event/red-gate-farm-hunter-show-23
LOCATION:Red Gate Farm\, 19225 Foggy Bottom Rd.\, Bluemont\, VA\, United States
END:VEVENT
BEGIN:VEVENT
DTSTART;TZID=America/New_York:20220430T080000
DTEND;TZID=America/New_York:20220430T170000
DTSTAMP:20260421T181339
CREATED:20220306T193414Z
LAST-MODIFIED:20220306T193414Z
UID:4280-1651305600-1651338000@loudounequine.org
SUMMARY:Rated Working Equitation Show at Oak Spring Equestrian
DESCRIPTION:
URL:https://loudounequine.org/event/rated-working-equitation-show-at-oak-spring-equestrian
LOCATION:Oak Spring Equestrian\, 15195 Bushy Park Rd.\, Woodbine\, MD\, 21797\, United States
END:VEVENT
BEGIN:VEVENT
DTSTART;TZID=America/New_York:20220428T183000
DTEND;TZID=America/New_York:20220428T183000
DTSTAMP:20260421T181339
CREATED:20220421T150602Z
LAST-MODIFIED:20220421T150602Z
UID:4812-1651170600-1651170600@loudounequine.org
SUMMARY:The Equine Tract  - in person event at MARE Center
DESCRIPTION:
URL:https://loudounequine.org/event/the-equine-tract-in-person-event-at-mare-center
LOCATION:Virginia Tech MARE Center\, 5527 Sullivans Road\, Middleburg\, VA\, United States
END:VEVENT
BEGIN:VEVENT
DTSTART;TZID=America/New_York:20220428T080000
DTEND;TZID=America/New_York:20220429T170000
DTSTAMP:20260421T181339
CREATED:20220306T193339Z
LAST-MODIFIED:20220306T193916Z
UID:4277-1651132800-1651251600@loudounequine.org
SUMMARY:OSE Working Equitation Clinic with Doreen Atkinson
DESCRIPTION:
URL:https://loudounequine.org/event/working-equitation-clinic-with-doreen-atkinson-2
LOCATION:Oak Spring Equestrian\, 15195 Bushy Park Rd.\, Woodbine\, MD\, 21797\, United States
END:VEVENT
BEGIN:VEVENT
DTSTART;TZID=America/New_York:20220426T080000
DTEND;TZID=America/New_York:20220427T170000
DTSTAMP:20260421T181339
CREATED:20220306T193258Z
LAST-MODIFIED:20220306T193853Z
UID:4274-1650960000-1651078800@loudounequine.org
SUMMARY:NOVAWE Working Equitation Clinic with Doreen Atkinson
DESCRIPTION:
URL:https://loudounequine.org/event/working-equitation-clinic-with-doreen-atkinson
LOCATION:Frying Pan Park\, 2739 West Ox Road\, Herndon\, VA\, 20171\, United States
ORGANIZER;CN="Northern Virginia Working Equitation":MAILTO:novawe.blowry@gmail.com
END:VEVENT
END:VCALENDAR