BEGIN:VCALENDAR
VERSION:2.0
PRODID:-//Loudoun County Equine Alliance - ECPv6.15.20//NONSGML v1.0//EN
CALSCALE:GREGORIAN
METHOD:PUBLISH
X-WR-CALNAME:Loudoun County Equine Alliance
X-ORIGINAL-URL:https://loudounequine.org
X-WR-CALDESC:Events for Loudoun County Equine Alliance
REFRESH-INTERVAL;VALUE=DURATION:PT1H
X-Robots-Tag:noindex
X-PUBLISHED-TTL:PT1H
BEGIN:VTIMEZONE
TZID:America/New_York
BEGIN:DAYLIGHT
TZOFFSETFROM:-0500
TZOFFSETTO:-0400
TZNAME:EDT
DTSTART:20200308T070000
END:DAYLIGHT
BEGIN:STANDARD
TZOFFSETFROM:-0400
TZOFFSETTO:-0500
TZNAME:EST
DTSTART:20201101T060000
END:STANDARD
BEGIN:DAYLIGHT
TZOFFSETFROM:-0500
TZOFFSETTO:-0400
TZNAME:EDT
DTSTART:20210314T070000
END:DAYLIGHT
BEGIN:STANDARD
TZOFFSETFROM:-0400
TZOFFSETTO:-0500
TZNAME:EST
DTSTART:20211107T060000
END:STANDARD
BEGIN:DAYLIGHT
TZOFFSETFROM:-0500
TZOFFSETTO:-0400
TZNAME:EDT
DTSTART:20220313T070000
END:DAYLIGHT
BEGIN:STANDARD
TZOFFSETFROM:-0400
TZOFFSETTO:-0500
TZNAME:EST
DTSTART:20221106T060000
END:STANDARD
BEGIN:DAYLIGHT
TZOFFSETFROM:-0500
TZOFFSETTO:-0400
TZNAME:EDT
DTSTART:20230312T070000
END:DAYLIGHT
BEGIN:STANDARD
TZOFFSETFROM:-0400
TZOFFSETTO:-0500
TZNAME:EST
DTSTART:20231105T060000
END:STANDARD
END:VTIMEZONE
BEGIN:VEVENT
DTSTART;TZID=America/New_York:20220511T170000
DTEND;TZID=America/New_York:20220511T180000
DTSTAMP:20260421T220642
CREATED:20220305T024110Z
LAST-MODIFIED:20220305T024110Z
UID:4152-1652288400-1652292000@loudounequine.org
SUMMARY:LCEA Board Meeting
DESCRIPTION:Zoom meeting – email information@loudounequine.org to attend.
URL:https://loudounequine.org/event/lcea-board-meeting-22
LOCATION:Virginia
END:VEVENT
BEGIN:VEVENT
DTSTART;TZID=America/New_York:20220501T080000
DTEND;TZID=America/New_York:20220501T160000
DTSTAMP:20260421T220642
CREATED:20220305T030347Z
LAST-MODIFIED:20220305T030347Z
UID:4223-1651392000-1651420800@loudounequine.org
SUMMARY:Red Gate Farm Hunter Show
DESCRIPTION:
URL:https://loudounequine.org/event/red-gate-farm-hunter-show-23
LOCATION:Red Gate Farm\, 19225 Foggy Bottom Rd.\, Bluemont\, VA\, United States
END:VEVENT
BEGIN:VEVENT
DTSTART;TZID=America/New_York:20220430T080000
DTEND;TZID=America/New_York:20220430T170000
DTSTAMP:20260421T220642
CREATED:20220306T193414Z
LAST-MODIFIED:20220306T193414Z
UID:4280-1651305600-1651338000@loudounequine.org
SUMMARY:Rated Working Equitation Show at Oak Spring Equestrian
DESCRIPTION:
URL:https://loudounequine.org/event/rated-working-equitation-show-at-oak-spring-equestrian
LOCATION:Oak Spring Equestrian\, 15195 Bushy Park Rd.\, Woodbine\, MD\, 21797\, United States
END:VEVENT
BEGIN:VEVENT
DTSTART;TZID=America/New_York:20220428T183000
DTEND;TZID=America/New_York:20220428T183000
DTSTAMP:20260421T220642
CREATED:20220421T150602Z
LAST-MODIFIED:20220421T150602Z
UID:4812-1651170600-1651170600@loudounequine.org
SUMMARY:The Equine Tract  - in person event at MARE Center
DESCRIPTION:
URL:https://loudounequine.org/event/the-equine-tract-in-person-event-at-mare-center
LOCATION:Virginia Tech MARE Center\, 5527 Sullivans Road\, Middleburg\, VA\, United States
END:VEVENT
BEGIN:VEVENT
DTSTART;TZID=America/New_York:20220428T080000
DTEND;TZID=America/New_York:20220429T170000
DTSTAMP:20260421T220642
CREATED:20220306T193339Z
LAST-MODIFIED:20220306T193916Z
UID:4277-1651132800-1651251600@loudounequine.org
SUMMARY:OSE Working Equitation Clinic with Doreen Atkinson
DESCRIPTION:
URL:https://loudounequine.org/event/working-equitation-clinic-with-doreen-atkinson-2
LOCATION:Oak Spring Equestrian\, 15195 Bushy Park Rd.\, Woodbine\, MD\, 21797\, United States
END:VEVENT
BEGIN:VEVENT
DTSTART;TZID=America/New_York:20220426T080000
DTEND;TZID=America/New_York:20220427T170000
DTSTAMP:20260421T220642
CREATED:20220306T193258Z
LAST-MODIFIED:20220306T193853Z
UID:4274-1650960000-1651078800@loudounequine.org
SUMMARY:NOVAWE Working Equitation Clinic with Doreen Atkinson
DESCRIPTION:
URL:https://loudounequine.org/event/working-equitation-clinic-with-doreen-atkinson
LOCATION:Frying Pan Park\, 2739 West Ox Road\, Herndon\, VA\, 20171\, United States
ORGANIZER;CN="Northern Virginia Working Equitation":MAILTO:novawe.blowry@gmail.com
END:VEVENT
BEGIN:VEVENT
DTSTART;TZID=America/New_York:20220425T130000
DTEND;TZID=America/New_York:20220425T170000
DTSTAMP:20260421T220642
CREATED:20220319T022651Z
LAST-MODIFIED:20220319T022651Z
UID:4695-1650891600-1650906000@loudounequine.org
SUMMARY:Loudoun Therapeutic Riding Putt for Ponies
DESCRIPTION:Tee Off for a Cause – Loudoun Therapeutic Riding and Lansdowne Resort have teamed up for a charity golf tournament! Grab a few pals and join us for Putt for Ponies on April 25\, on the Norman Course at Lansdowne. A cocktail and barbecue reception will await your team at the finish.   \nSponsorships are available! Sponsors will receive golf signage\, social media posts\, and company logo listed in onsite brochure.  \nFunds raised by this event will support Loudoun Therapeutic Riding\, a nonprofit organization in Lovettsville\, Virginia that provides equine-assisted services to individuals with physical\, cognitive\, and emotional disabilities.  
URL:https://loudounequine.org/event/loudoun-therapeutic-riding-putt-for-ponies
LOCATION:Landsdowne Resort\, 44050 Woodbridge Parkway\, Leesburg\, VA\, 20176\, United States
END:VEVENT
BEGIN:VEVENT
DTSTART;TZID=America/New_York:20220424T100000
DTEND;TZID=America/New_York:20220424T170000
DTSTAMP:20260421T220642
CREATED:20220317T182229Z
LAST-MODIFIED:20220317T182253Z
UID:4654-1650794400-1650819600@loudounequine.org
SUMMARY:Loudoun Hunt Point to Point Races
DESCRIPTION:Visit www.loudounraces.com for more information
URL:https://loudounequine.org/event/loudoun-hunt-point-to-point-races-4
LOCATION:Morven Park Equestrian Center\,  Morven Park Equestrian Center\, 41580 Sunday Morning Lane\, Leesburg\, VA\, 20176\, United States
END:VEVENT
BEGIN:VEVENT
DTSTART;TZID=America/New_York:20220421T150000
DTEND;TZID=America/New_York:20220421T170000
DTSTAMP:20260421T220642
CREATED:20220305T025150Z
LAST-MODIFIED:20220305T025150Z
UID:4188-1650553200-1650560400@loudounequine.org
SUMMARY:Fix-A-Test with "r" judge Peggy Pariso - Beaux Reves Equestrian
DESCRIPTION:
URL:https://loudounequine.org/event/fix-a-test-with-r-judge-peggy-pariso-beaux-reves-equestrian
LOCATION:Virginia
END:VEVENT
BEGIN:VEVENT
DTSTART;TZID=America/New_York:20220419T080000
DTEND;TZID=America/New_York:20220419T170000
DTSTAMP:20260421T220642
CREATED:20220305T025003Z
LAST-MODIFIED:20220305T025003Z
UID:4183-1650355200-1650387600@loudounequine.org
SUMMARY:Biomechanics Clinic with Isabelle von Neumann-Cosel
DESCRIPTION:
URL:https://loudounequine.org/event/biomechanics-clinic-with-isabelle-von-neumann-cosel
LOCATION:Beaux Reves Equestrian\, 15929 Hampton Rd.\, Hamilton\, VA\, United States
END:VEVENT
BEGIN:VEVENT
DTSTART;TZID=America/New_York:20220416T080000
DTEND;TZID=America/New_York:20220416T170000
DTSTAMP:20260421T220642
CREATED:20220305T025551Z
LAST-MODIFIED:20220305T025551Z
UID:4195-1650096000-1650128400@loudounequine.org
SUMMARY:Southern States Purcellville Summer Show Series - Morven Park
DESCRIPTION:Click here to download 2022 Prize List\nhttps://www.morvenpark.org/file_download/inline/ddd0195b-cbbc-43c2-b01e-5ee76c64ee99
URL:https://loudounequine.org/event/southern-states-purcellville-summer-show-series-morven-park
LOCATION:Virginia
END:VEVENT
BEGIN:VEVENT
DTSTART;TZID=America/New_York:20220413T170000
DTEND;TZID=America/New_York:20220413T180000
DTSTAMP:20260421T220642
CREATED:20220305T024033Z
LAST-MODIFIED:20220413T153939Z
UID:4149-1649869200-1649872800@loudounequine.org
SUMMARY:CANCELLED - LCEA Board Meeting
DESCRIPTION:Zoom meeting – email information@loudounequine.org to attend.
URL:https://loudounequine.org/event/lcea-board-meeting-21
LOCATION:Virginia
END:VEVENT
BEGIN:VEVENT
DTSTART;TZID=America/New_York:20220412T170000
DTEND;TZID=America/New_York:20220412T200000
DTSTAMP:20260421T220642
CREATED:20220225T142524Z
LAST-MODIFIED:20220309T212915Z
UID:3906-1649782800-1649793600@loudounequine.org
SUMMARY:LCEA 2022 Equine Expo
DESCRIPTION:The 5th Annual Expo will be held at Stone Tower Winery in Leesburg. Admission is free! \nMore details to come.
URL:https://loudounequine.org/event/2022-equine-expo
LOCATION:Stone Tower Winery\, 19925 Hogback Mountain Road\, Leesburg\, VA\, 20175\, United States
CATEGORIES:Equine Expo,Events
ATTACH;FMTTYPE=image/jpeg:https://loudounequine.org/wp-content/uploads/2022/02/22Expo-Banner-1024x256-1.jpg
END:VEVENT
BEGIN:VEVENT
DTSTART;TZID=America/New_York:20220412T080000
DTEND;TZID=America/New_York:20220412T170000
DTSTAMP:20260421T220642
CREATED:20220305T024913Z
LAST-MODIFIED:20220305T025102Z
UID:4180-1649750400-1649782800@loudounequine.org
SUMMARY:Beaux Reves Equestrian Jump Chute Clinic with Martin Douzant
DESCRIPTION:
URL:https://loudounequine.org/event/beaux-reves-equestrian-jump-chute-clinic-with-martin-douzant
LOCATION:Beaux Reves Equestrian\, 15929 Hampton Rd.\, Hamilton\, VA\, United States
END:VEVENT
BEGIN:VEVENT
DTSTART;TZID=America/New_York:20220406T080000
DTEND;TZID=America/New_York:20220406T170000
DTSTAMP:20260421T220642
CREATED:20220305T024811Z
LAST-MODIFIED:20220305T024818Z
UID:4176-1649232000-1649264400@loudounequine.org
SUMMARY:Beaux Reves Equestrian LLC Evening Dressage Schooling Show
DESCRIPTION:
URL:https://loudounequine.org/event/beaux-reves-equestrian-llc-evening-dressage-schooling-show
LOCATION:Beaux Reves Equestrian\, 15929 Hampton Rd.\, Hamilton\, VA\, United States
END:VEVENT
BEGIN:VEVENT
DTSTART;TZID=America/New_York:20220403T080000
DTEND;TZID=America/New_York:20220403T160000
DTSTAMP:20260421T220642
CREATED:20220305T030252Z
LAST-MODIFIED:20220305T030304Z
UID:4219-1648972800-1649001600@loudounequine.org
SUMMARY:Red Gate Farm Hunter Show
DESCRIPTION:
URL:https://loudounequine.org/event/red-gate-farm-hunter-show-22
LOCATION:Red Gate Farm\, 19225 Foggy Bottom Rd.\, Bluemont\, VA\, United States
END:VEVENT
BEGIN:VEVENT
DTSTART;TZID=America/New_York:20220402T100000
DTEND;TZID=America/New_York:20220402T170000
DTSTAMP:20260421T220642
CREATED:20220325T134935Z
LAST-MODIFIED:20220325T135112Z
UID:4765-1648893600-1648918800@loudounequine.org
SUMMARY:Lovettsville Community Park Grand Opening
DESCRIPTION:
URL:https://loudounequine.org/event/lovettsville-community-park-grand-opening
LOCATION:Lovettsville Community Park\, 12565 Milltown Road\, Lovettsville\, VA\, 20150\, United States
CATEGORIES:Events
ATTACH;FMTTYPE=image/jpeg:https://loudounequine.org/wp-content/uploads/2022/03/web-4.2.2022-Invitation-Lovettsville-Community-Park-Ribbon-Cutting-and-Grand-Opening.jpg
END:VEVENT
BEGIN:VEVENT
DTSTART;TZID=America/New_York:20220402T080000
DTEND;TZID=America/New_York:20220403T170000
DTSTAMP:20260421T220642
CREATED:20220306T193111Z
LAST-MODIFIED:20220306T193111Z
UID:4271-1648886400-1649005200@loudounequine.org
SUMMARY:Patrick King Clinic at Oak Spring Equestrian
DESCRIPTION:
URL:https://loudounequine.org/event/patrick-king-clinic-at-oak-spring-equestrian
LOCATION:Oak Spring Equestrian\, 15195 Bushy Park Rd.\, Woodbine\, MD\, 21797\, United States
END:VEVENT
BEGIN:VEVENT
DTSTART;TZID=America/New_York:20220402T080000
DTEND;TZID=America/New_York:20220403T170000
DTSTAMP:20260421T220642
CREATED:20220305T025326Z
LAST-MODIFIED:20220305T025332Z
UID:4191-1648886400-1649005200@loudounequine.org
SUMMARY:Morven Park Spring Horse Trials
DESCRIPTION:
URL:https://loudounequine.org/event/morven-park-spring-horse-trials-7
LOCATION:Morven Park Equestrian Center\,  Morven Park Equestrian Center\, 41580 Sunday Morning Lane\, Leesburg\, VA\, 20176\, United States
END:VEVENT
BEGIN:VEVENT
DTSTART;TZID=America/New_York:20220324T180000
DTEND;TZID=America/New_York:20220324T190000
DTSTAMP:20260421T220642
CREATED:20220317T183000Z
LAST-MODIFIED:20220317T183000Z
UID:4658-1648144800-1648148400@loudounequine.org
SUMMARY:50+ Years of Conservation with Goose Creek Association
DESCRIPTION:For 50+ years\, the Goose Creek Association has worked to clean up the Goose Creek watershed and to advocate for sustainable farming and environmental practices to help this important waterway. Spend an evening with the NSLM and the Goose Creek Association to learn about their conservation work\, stream monitoring\, riparian buffers\, and how you can make an impact on the sustainability of this key waterway. This will be an informative and hands-on discussion and short film screening where all are welcome\, from the budding environmentalist and the curious\, to landowners and farmers. \nThis program is free. Learn more about the Goose Creek Association on their website. \nThis program will be held live on Zoom and Facebook Live. To RSVP and receive a link to Zoom\, please email EReeb@NationalSporting.org or fill out this form. Otherwise simply log onto Facebook to watch! \nSpeakers include Lori McGuinness\, Chair of Fauquier County; Paul Lawrence\, Chair of Loudoun County; Jeff Millington\, Board Member; and Dulany Morison\, Board Member.
URL:https://loudounequine.org/event/50-years-of-conservation-with-goose-creek-association
LOCATION:National Sporting Library & Museum\, 102 The Plains Road\, Middleburg\, VA\, 20177\, United States
END:VEVENT
BEGIN:VEVENT
DTSTART;TZID=America/New_York:20220320T090000
DTEND;TZID=America/New_York:20220320T170000
DTSTAMP:20260421T220642
CREATED:20220306T192937Z
LAST-MODIFIED:20220306T193809Z
UID:4268-1647766800-1647795600@loudounequine.org
SUMMARY:NOVAWE Working Equitation Clinic with Stephanie Jennings
DESCRIPTION:
URL:https://loudounequine.org/event/working-equitation-clinic-with-stephanie-jennings
LOCATION:Almeda Farm\, Berryville\, VA\, United States
ORGANIZER;CN="Northern Virginia Working Equitation":MAILTO:novawe.blowry@gmail.com
END:VEVENT
BEGIN:VEVENT
DTSTART;TZID=America/New_York:20220320T080000
DTEND;TZID=America/New_York:20220320T170000
DTSTAMP:20260421T220642
CREATED:20220317T190817Z
LAST-MODIFIED:20220317T191014Z
UID:4671-1647763200-1647795600@loudounequine.org
SUMMARY:NOVA Equestrian Center Lameness Locator / Acupuncture Clinic
DESCRIPTION:Click HERE for more information: \n 
URL:https://loudounequine.org/event/nova-equestrian-center-lameness-locator-acupuncture-clinic
LOCATION:NOVA Equestrian Center\, 24556 James Monroe Highway\, Aldie\, VA\, 20105\, United States
END:VEVENT
BEGIN:VEVENT
DTSTART;TZID=America/New_York:20220311T080000
DTEND;TZID=America/New_York:20220313T170000
DTSTAMP:20260421T220642
CREATED:20220306T192837Z
LAST-MODIFIED:20220306T192837Z
UID:4265-1646985600-1647190800@loudounequine.org
SUMMARY:Dominique Barbier Clinic at Briar Creek Farm
DESCRIPTION:
URL:https://loudounequine.org/event/dominique-barbier-clinic-at-briar-creek-farm
LOCATION:Briar Creek Farm\, Leesburg\, Virginia
END:VEVENT
BEGIN:VEVENT
DTSTART;TZID=America/New_York:20220309T170000
DTEND;TZID=America/New_York:20220309T180000
DTSTAMP:20260421T220642
CREATED:20220305T023918Z
LAST-MODIFIED:20220305T023918Z
UID:4146-1646845200-1646848800@loudounequine.org
SUMMARY:LCEA Board Meeting
DESCRIPTION:Zoom meeting – email information@loudounequine.org to attend.
URL:https://loudounequine.org/event/lcea-board-meeting-20
LOCATION:Virginia
END:VEVENT
BEGIN:VEVENT
DTSTART;TZID=America/New_York:20220304T080000
DTEND;TZID=America/New_York:20220304T170000
DTSTAMP:20260421T220642
CREATED:20220305T025659Z
LAST-MODIFIED:20220305T025659Z
UID:4201-1646380800-1646413200@loudounequine.org
SUMMARY:Southern States Purcellville Summer Show Series - Morven Park
DESCRIPTION:Click here to download 2022 Prize List\nhttps://www.morvenpark.org/file_download/inline/ddd0195b-cbbc-43c2-b01e-5ee76c64ee99
URL:https://loudounequine.org/event/southern-states-purcellville-summer-show-series-morven-park-3
LOCATION:Virginia
END:VEVENT
BEGIN:VEVENT
DTSTART;TZID=America/New_York:20211221T080000
DTEND;TZID=America/New_York:20211221T170000
DTSTAMP:20260421T220642
CREATED:20210219T022609Z
LAST-MODIFIED:20210219T022609Z
UID:3599-1640073600-1640106000@loudounequine.org
SUMMARY:LCEA Board Meeting - virtual meeting
DESCRIPTION:Everyone is welcome.  Please contact LCEA via email at information@louduonequine.org for meeting details
URL:https://loudounequine.org/event/lcea-board-meeting-virtual-meeting-13
LOCATION:Virginia
END:VEVENT
BEGIN:VEVENT
DTSTART;TZID=America/New_York:20211116T080000
DTEND;TZID=America/New_York:20211116T170000
DTSTAMP:20260421T220642
CREATED:20210219T022437Z
LAST-MODIFIED:20210219T022437Z
UID:3596-1637049600-1637082000@loudounequine.org
SUMMARY:LCEA Board Meeting - virtual meeting
DESCRIPTION:Everyone is welcome.  Please contact LCEA via email at information@louduonequine.org for meeting details
URL:https://loudounequine.org/event/lcea-board-meeting-virtual-meeting-12
LOCATION:Virginia
END:VEVENT
BEGIN:VEVENT
DTSTART;TZID=America/New_York:20211114T080000
DTEND;TZID=America/New_York:20211114T170000
DTSTAMP:20260421T220642
CREATED:20210219T021225Z
LAST-MODIFIED:20210219T021225Z
UID:3569-1636876800-1636909200@loudounequine.org
SUMMARY:Fun Jumpers (TIP) at Red Gate Farm
DESCRIPTION:19255 Foggy Bottom Road\, Bluemont\, VA 20135 \nredgatefarmva@aol.com \n(540) 882-3530 \nhttps://www.redgatefarmva.com/horse-shows/outside-show-2013-schedule/
URL:https://loudounequine.org/event/fun-jumpers-tip-at-red-gate-farm
LOCATION:Red Gate Farm\, 19225 Foggy Bottom Rd.\, Bluemont\, VA\, United States
END:VEVENT
BEGIN:VEVENT
DTSTART;TZID=America/New_York:20211114T080000
DTEND;TZID=America/New_York:20211114T170000
DTSTAMP:20260421T220642
CREATED:20210219T021029Z
LAST-MODIFIED:20210219T021029Z
UID:3567-1636876800-1636909200@loudounequine.org
SUMMARY:Horse Trial at Red Gate Farm
DESCRIPTION:(CDCTA\, MCTA) \n19255 Foggy Bottom Road\, Bluemont\, VA 20135 \nredgatefarmva@aol.com \n(540) 882-3530 \nhttps://www.redgatefarmva.com/horse-shows/outside-show-2013-schedule/
URL:https://loudounequine.org/event/horse-trial-at-red-gate-farm-2
LOCATION:Red Gate Farm\, 19225 Foggy Bottom Rd.\, Bluemont\, VA\, United States
END:VEVENT
BEGIN:VEVENT
DTSTART;TZID=America/New_York:20211106T080000
DTEND;TZID=America/New_York:20211106T170000
DTSTAMP:20260421T220642
CREATED:20210219T020953Z
LAST-MODIFIED:20210220T021925Z
UID:3565-1636185600-1636218000@loudounequine.org
SUMMARY:USTR Monthly Trail Ride – Members Only
DESCRIPTION:Little Bennet Regional Park\, MD \nhttps://ustr.clubexpress.com/content.aspx?page_id=4001&club_id=967876&action=cira
URL:https://loudounequine.org/event/tsrc-monthly-trail-ride-members-only-4
LOCATION:Virginia
END:VEVENT
END:VCALENDAR