BEGIN:VCALENDAR
VERSION:2.0
PRODID:-//Loudoun County Equine Alliance - ECPv6.15.20//NONSGML v1.0//EN
CALSCALE:GREGORIAN
METHOD:PUBLISH
X-ORIGINAL-URL:https://loudounequine.org
X-WR-CALDESC:Events for Loudoun County Equine Alliance
REFRESH-INTERVAL;VALUE=DURATION:PT1H
X-Robots-Tag:noindex
X-PUBLISHED-TTL:PT1H
BEGIN:VTIMEZONE
TZID:America/New_York
BEGIN:DAYLIGHT
TZOFFSETFROM:-0500
TZOFFSETTO:-0400
TZNAME:EDT
DTSTART:20210314T070000
END:DAYLIGHT
BEGIN:STANDARD
TZOFFSETFROM:-0400
TZOFFSETTO:-0500
TZNAME:EST
DTSTART:20211107T060000
END:STANDARD
BEGIN:DAYLIGHT
TZOFFSETFROM:-0500
TZOFFSETTO:-0400
TZNAME:EDT
DTSTART:20220313T070000
END:DAYLIGHT
BEGIN:STANDARD
TZOFFSETFROM:-0400
TZOFFSETTO:-0500
TZNAME:EST
DTSTART:20221106T060000
END:STANDARD
BEGIN:DAYLIGHT
TZOFFSETFROM:-0500
TZOFFSETTO:-0400
TZNAME:EDT
DTSTART:20230312T070000
END:DAYLIGHT
BEGIN:STANDARD
TZOFFSETFROM:-0400
TZOFFSETTO:-0500
TZNAME:EST
DTSTART:20231105T060000
END:STANDARD
END:VTIMEZONE
BEGIN:VEVENT
DTSTART;TZID=America/New_York:20220903T080000
DTEND;TZID=America/New_York:20220903T170000
DTSTAMP:20260423T115631
CREATED:20220305T030042Z
LAST-MODIFIED:20220305T030042Z
UID:4216-1662192000-1662224400@loudounequine.org
SUMMARY:Southern States Purcellville Summer Show Series - Morven Park
DESCRIPTION:Click here to download 2022 Prize List\nhttps://www.morvenpark.org/file_download/inline/ddd0195b-cbbc-43c2-b01e-5ee76c64ee99
URL:https://loudounequine.org/event/southern-states-purcellville-summer-show-series-morven-park-8
LOCATION:VA
END:VEVENT
BEGIN:VEVENT
DTSTART;TZID=America/New_York:20220911T080000
DTEND;TZID=America/New_York:20220911T160000
DTSTAMP:20260423T115631
CREATED:20220306T191947Z
LAST-MODIFIED:20220306T191947Z
UID:4250-1662883200-1662912000@loudounequine.org
SUMMARY:Hunter Show at Red Gate Farm
DESCRIPTION:
URL:https://loudounequine.org/event/hunter-show-at-red-gate-farm-3
LOCATION:Red Gate Farm\, 19225 Foggy Bottom Rd.\, Bluemont\, VA\, United States
END:VEVENT
BEGIN:VEVENT
DTSTART;TZID=America/New_York:20220914T170000
DTEND;TZID=America/New_York:20220914T180000
DTSTAMP:20260423T115631
CREATED:20220305T024316Z
LAST-MODIFIED:20220305T024316Z
UID:4164-1663174800-1663178400@loudounequine.org
SUMMARY:LCEA Board Meeting
DESCRIPTION:Zoom meeting – email information@loudounequine.org to attend.
URL:https://loudounequine.org/event/lcea-board-meeting-26
LOCATION:VA
END:VEVENT
BEGIN:VEVENT
DTSTART;TZID=America/New_York:20220918T080000
DTEND;TZID=America/New_York:20220918T170000
DTSTAMP:20260423T115631
CREATED:20220306T195225Z
LAST-MODIFIED:20220306T195225Z
UID:4314-1663488000-1663520400@loudounequine.org
SUMMARY:NOVAWE Working Equitation Clinic #5 with Melissa Smith
DESCRIPTION:
URL:https://loudounequine.org/event/novawe-working-equitation-clinic-5-with-melissa-smith
LOCATION:Almeda Farm\, Berryville\, VA\, United States
ORGANIZER;CN="Northern Virginia Working Equitation":MAILTO:novawe.blowry@gmail.com
END:VEVENT
BEGIN:VEVENT
DTSTART;TZID=America/New_York:20220925T080000
DTEND;TZID=America/New_York:20220925T160000
DTSTAMP:20260423T115631
CREATED:20220306T192412Z
LAST-MODIFIED:20220306T192412Z
UID:4253-1664092800-1664121600@loudounequine.org
SUMMARY:Schooling Jumper Show and Starter Horse Trial
DESCRIPTION:at Red Gate Farm
URL:https://loudounequine.org/event/schooling-jumper-show-and-starter-horse-trial
LOCATION:Red Gate Farm\, 19225 Foggy Bottom Rd.\, Bluemont\, VA\, United States
END:VEVENT
END:VCALENDAR