BEGIN:VCALENDAR
VERSION:2.0
PRODID:-//Loudoun County Equine Alliance - ECPv6.15.20//NONSGML v1.0//EN
CALSCALE:GREGORIAN
METHOD:PUBLISH
X-WR-CALNAME:Loudoun County Equine Alliance
X-ORIGINAL-URL:https://loudounequine.org
X-WR-CALDESC:Events for Loudoun County Equine Alliance
REFRESH-INTERVAL;VALUE=DURATION:PT1H
X-Robots-Tag:noindex
X-PUBLISHED-TTL:PT1H
BEGIN:VTIMEZONE
TZID:America/New_York
BEGIN:DAYLIGHT
TZOFFSETFROM:-0500
TZOFFSETTO:-0400
TZNAME:EDT
DTSTART:20220313T070000
END:DAYLIGHT
BEGIN:STANDARD
TZOFFSETFROM:-0400
TZOFFSETTO:-0500
TZNAME:EST
DTSTART:20221106T060000
END:STANDARD
BEGIN:DAYLIGHT
TZOFFSETFROM:-0500
TZOFFSETTO:-0400
TZNAME:EDT
DTSTART:20230312T070000
END:DAYLIGHT
BEGIN:STANDARD
TZOFFSETFROM:-0400
TZOFFSETTO:-0500
TZNAME:EST
DTSTART:20231105T060000
END:STANDARD
BEGIN:DAYLIGHT
TZOFFSETFROM:-0500
TZOFFSETTO:-0400
TZNAME:EDT
DTSTART:20240310T070000
END:DAYLIGHT
BEGIN:STANDARD
TZOFFSETFROM:-0400
TZOFFSETTO:-0500
TZNAME:EST
DTSTART:20241103T060000
END:STANDARD
END:VTIMEZONE
BEGIN:VEVENT
DTSTART;TZID=America/New_York:20230401T080000
DTEND;TZID=America/New_York:20230402T170000
DTSTAMP:20260421T122858
CREATED:20230220T211747Z
LAST-MODIFIED:20230220T211747Z
UID:5117-1680336000-1680454800@loudounequine.org
SUMMARY:Morven Park Spring Horse Trials
DESCRIPTION:
URL:https://loudounequine.org/event/morven-park-spring-horse-trials-8
LOCATION:Morven Park Equestrian Center\,  Morven Park Equestrian Center\, 41580 Sunday Morning Lane\, Leesburg\, VA\, 20176\, United States
END:VEVENT
BEGIN:VEVENT
DTSTART;TZID=America/New_York:20230402T080000
DTEND;TZID=America/New_York:20230402T160000
DTSTAMP:20260421T122858
CREATED:20221221T144639Z
LAST-MODIFIED:20221221T144639Z
UID:4891-1680422400-1680451200@loudounequine.org
SUMMARY:Red Gate Farm Hunter Show
DESCRIPTION:(VHSA/BHSA/TIP)
URL:https://loudounequine.org/event/red-gate-farm-hunter-show-24
LOCATION:Red Gate Farm\, 19225 Foggy Bottom Rd.\, Bluemont\, VA\, United States
END:VEVENT
BEGIN:VEVENT
DTSTART;TZID=America/New_York:20230404T080000
DTEND;TZID=America/New_York:20230404T170000
DTSTAMP:20260421T122858
CREATED:20230220T211817Z
LAST-MODIFIED:20230220T211817Z
UID:5120-1680595200-1680627600@loudounequine.org
SUMMARY:Spring Open Cross Country Schooling Day
DESCRIPTION:
URL:https://loudounequine.org/event/spring-open-cross-country-schooling-day
LOCATION:Morven Park Equestrian Center\,  Morven Park Equestrian Center\, 41580 Sunday Morning Lane\, Leesburg\, VA\, 20176\, United States
END:VEVENT
BEGIN:VEVENT
DTSTART;TZID=America/New_York:20230405T130000
DTEND;TZID=America/New_York:20230405T170000
DTSTAMP:20260421T122858
CREATED:20230309T195828Z
LAST-MODIFIED:20230309T195828Z
UID:5200-1680699600-1680714000@loudounequine.org
SUMMARY:Beaux Rêves Equestrian Dressage Schooling Show
DESCRIPTION:VADA/Nova affiliated. Judge “L” Graduate – Aviva Nebesky\nSign up at Striderpro.com
URL:https://loudounequine.org/event/beaux-reves-equestrian-dressage-schooling-show-9
LOCATION:Beaux Reves Equestrian\, 15929 Hampton Rd.\, Hamilton\, VA\, United States
END:VEVENT
BEGIN:VEVENT
DTSTART;TZID=America/New_York:20230407T100000
DTEND;TZID=America/New_York:20230407T120000
DTSTAMP:20260421T122858
CREATED:20230311T210057Z
LAST-MODIFIED:20230311T210057Z
UID:5213-1680861600-1680868800@loudounequine.org
SUMMARY:Piedmont Fox Hounds Conservation Fund Trail Ride at Milan Silos
DESCRIPTION:Join Piedmont Fox Hounds Conservation Fun (PFHCF) for a FREE trail ride through the stunning countryside we work to protect!\nLocated near Rectortown in Fauquier County\, Milan Silos is a local landmark and brimming with natural beauty\, ecosystems and wildlife. The property is carefully governed by leading best management practices and a pinnacle example of successful environmental stewardship.\nPlease arrive early as the ride will begin at 10:00 AM and last approximately two hours.\nParticipants are responsible for providing their own horse and riding equipment. They must be able to control their horse and remain with the group behind the leader. Protective ASTM/SEI approved hard helmets are required by our insurance.\nRiders and horses should be comfortable in a group and navigating stream crossings\, rolling terrain and some steep hills. Refreshments will be provided at the ride’s conclusion.\nRefreshments will be provided at the conclusion of the trail ride.\nAll riders must sign a waiver of liability and show proof of negative Coggins prior to the start of the ride.
URL:https://loudounequine.org/event/piedmont-fox-hounds-conservation-fund-trail-ride-at-milan-silos
LOCATION:Piedmont Fox Hounds\, 21676 Newlin Mill Rd.\, Upperville\, VA\, 20184\, United States
END:VEVENT
BEGIN:VEVENT
DTSTART;TZID=America/New_York:20230411T190000
DTEND;TZID=America/New_York:20230411T200000
DTSTAMP:20260421T122858
CREATED:20230121T191804Z
LAST-MODIFIED:20230121T191804Z
UID:5001-1681239600-1681243200@loudounequine.org
SUMMARY:Tuesday Talk: "Equine Respiratory Disease:  It's a lumg story
DESCRIPTION:Megan Marchitello\, DVM\nClinical Instructor of Equine Medicine\nAn overview of the equine respiratory tract and common pathology.
URL:https://loudounequine.org/event/tuesday-talk-equine-respiratory-disease-its-a-lumg-story
LOCATION:Marion duPont Scott Equine Medical Center\, 17690 Old Waterford Rd\, Leesburg\, VA\, 20176\, United States
END:VEVENT
BEGIN:VEVENT
DTSTART;TZID=America/New_York:20230416T080000
DTEND;TZID=America/New_York:20230416T170000
DTSTAMP:20260421T122858
CREATED:20230220T212947Z
LAST-MODIFIED:20230220T212947Z
UID:5145-1681632000-1681664400@loudounequine.org
SUMMARY:A Jump Above Schooling Jumper Shows
DESCRIPTION:
URL:https://loudounequine.org/event/a-jump-above-schooling-jumper-shows
LOCATION:Great Meadow\, 5089 Old Tavern Rd.\, The Plains\, 20198\, United States
END:VEVENT
BEGIN:VEVENT
DTSTART;TZID=America/New_York:20230422T080000
DTEND;TZID=America/New_York:20230422T170000
DTSTAMP:20260421T122858
CREATED:20230301T112946Z
LAST-MODIFIED:20230301T112946Z
UID:5189-1682150400-1682182800@loudounequine.org
SUMMARY:NOVAWE's Ready\, Set\, Spring into WE Show #1
DESCRIPTION:
URL:https://loudounequine.org/event/novawes-ready-set-spring-into-we-show-1-2
LOCATION:Frying Pan Park\, 2739 West Ox Road\, Herndon\, VA\, 20171\, United States
ORGANIZER;CN="Northern Virginia Working Equitation":MAILTO:novawe.blowry@gmail.com
END:VEVENT
BEGIN:VEVENT
DTSTART;TZID=America/New_York:20230423T080000
DTEND;TZID=America/New_York:20230423T170000
DTSTAMP:20260421T122858
CREATED:20230121T192450Z
LAST-MODIFIED:20230121T192504Z
UID:5008-1682236800-1682269200@loudounequine.org
SUMMARY:NOVAWE's Ready\, Set\, Spring into WE Show #2
DESCRIPTION:
URL:https://loudounequine.org/event/novawes-ready-set-spring-into-we-show-1
LOCATION:Frying Pan Park\, 2739 West Ox Road\, Herndon\, VA\, 20171\, United States
END:VEVENT
BEGIN:VEVENT
DTSTART;TZID=America/New_York:20230426T170000
DTEND;TZID=America/New_York:20230426T170000
DTSTAMP:20260421T122858
CREATED:20230317T183147Z
LAST-MODIFIED:20230317T183147Z
UID:5222-1682528400-1682528400@loudounequine.org
SUMMARY:LCEA Equine Expo
DESCRIPTION:5 to 8 pm. Stone Tower Winery \nMeet the businesses & organizations that support your passion.  \nAddmission is FREE.  Free glass of wine to first 100 guests.
URL:https://loudounequine.org/event/lcea-equine-expo-2
LOCATION:Stone Tower Winery\, 19925 Hogback Mountain Road\, Leesburg\, VA\, 20175\, United States
END:VEVENT
BEGIN:VEVENT
DTSTART;TZID=America/New_York:20230429T180000
DTEND;TZID=America/New_York:20230429T180000
DTSTAMP:20260421T122858
CREATED:20230226T185342Z
LAST-MODIFIED:20230226T185342Z
UID:5178-1682791200-1682791200@loudounequine.org
SUMMARY:26th Annual Denim & Diamonds Gala
DESCRIPTION:
URL:https://loudounequine.org/event/26th-annual-denim-diamonds-gala
LOCATION:The Middlebr Barn\, 23320 Foxchase Farm Lane\, Middleburg\, VA\, 20117\, United States
ORGANIZER;CN="Middleburg Humane Foundation":MAILTO:admin@middleburghumane.org
END:VEVENT
BEGIN:VEVENT
DTSTART;TZID=America/New_York:20230430T080000
DTEND;TZID=America/New_York:20230430T160000
DTSTAMP:20260421T122858
CREATED:20221221T144722Z
LAST-MODIFIED:20221221T144722Z
UID:4894-1682841600-1682870400@loudounequine.org
SUMMARY:Red Gate Farm Hunter Show
DESCRIPTION:(VHSA/BHSA/TIP)
URL:https://loudounequine.org/event/red-gate-farm-hunter-show-25
LOCATION:Red Gate Farm\, 19225 Foggy Bottom Rd.\, Bluemont\, VA\, United States
END:VEVENT
END:VCALENDAR