BEGIN:VCALENDAR
VERSION:2.0
PRODID:-//Loudoun County Equine Alliance - ECPv6.15.20//NONSGML v1.0//EN
CALSCALE:GREGORIAN
METHOD:PUBLISH
X-WR-CALNAME:Loudoun County Equine Alliance
X-ORIGINAL-URL:https://loudounequine.org
X-WR-CALDESC:Events for Loudoun County Equine Alliance
REFRESH-INTERVAL;VALUE=DURATION:PT1H
X-Robots-Tag:noindex
X-PUBLISHED-TTL:PT1H
BEGIN:VTIMEZONE
TZID:America/New_York
BEGIN:DAYLIGHT
TZOFFSETFROM:-0500
TZOFFSETTO:-0400
TZNAME:EDT
DTSTART:20220313T070000
END:DAYLIGHT
BEGIN:STANDARD
TZOFFSETFROM:-0400
TZOFFSETTO:-0500
TZNAME:EST
DTSTART:20221106T060000
END:STANDARD
BEGIN:DAYLIGHT
TZOFFSETFROM:-0500
TZOFFSETTO:-0400
TZNAME:EDT
DTSTART:20230312T070000
END:DAYLIGHT
BEGIN:STANDARD
TZOFFSETFROM:-0400
TZOFFSETTO:-0500
TZNAME:EST
DTSTART:20231105T060000
END:STANDARD
BEGIN:DAYLIGHT
TZOFFSETFROM:-0500
TZOFFSETTO:-0400
TZNAME:EDT
DTSTART:20240310T070000
END:DAYLIGHT
BEGIN:STANDARD
TZOFFSETFROM:-0400
TZOFFSETTO:-0500
TZNAME:EST
DTSTART:20241103T060000
END:STANDARD
END:VTIMEZONE
BEGIN:VEVENT
DTSTART;TZID=America/New_York:20230910T080000
DTEND;TZID=America/New_York:20230910T160000
DTSTAMP:20260421T065325
CREATED:20221221T145524Z
LAST-MODIFIED:20221221T145524Z
UID:4924-1694332800-1694361600@loudounequine.org
SUMMARY:Red Gate Farm Hunter Show
DESCRIPTION:(VHSA/BHSA/TIP)
URL:https://loudounequine.org/event/red-gate-farm-hunter-show-29
LOCATION:Red Gate Farm\, 19225 Foggy Bottom Rd.\, Bluemont\, VA\, United States
END:VEVENT
BEGIN:VEVENT
DTSTART;TZID=America/New_York:20230923T080000
DTEND;TZID=America/New_York:20230923T170000
DTSTAMP:20260421T065325
CREATED:20230210T150335Z
LAST-MODIFIED:20230210T150335Z
UID:5048-1695456000-1695488400@loudounequine.org
SUMMARY:Starter Horse Trial - Hunt Club Farm
DESCRIPTION:Enter using evententries.com
URL:https://loudounequine.org/event/starter-horse-trial-hunt-club-farm-2
LOCATION:Hunt Club Farm\, 294 Longmarsh Road\, Berryville\, VA\, 22611\, United States
END:VEVENT
BEGIN:VEVENT
DTSTART;TZID=America/New_York:20230924T080000
DTEND;TZID=America/New_York:20230924T160000
DTSTAMP:20260421T065325
CREATED:20221221T145611Z
LAST-MODIFIED:20221221T145611Z
UID:4927-1695542400-1695571200@loudounequine.org
SUMMARY:Red Gate Farm Schooling Jumper Show & Starter Horse Trial
DESCRIPTION:(TIP)
URL:https://loudounequine.org/event/red-gate-farm-schooling-jumper-show-starter-horse-trial-2
LOCATION:Red Gate Farm\, 19225 Foggy Bottom Rd.\, Bluemont\, VA\, United States
END:VEVENT
END:VCALENDAR