BEGIN:VCALENDAR
VERSION:2.0
PRODID:-//Loudoun County Equine Alliance - ECPv6.15.20//NONSGML v1.0//EN
CALSCALE:GREGORIAN
METHOD:PUBLISH
X-ORIGINAL-URL:https://loudounequine.org
X-WR-CALDESC:Events for Loudoun County Equine Alliance
REFRESH-INTERVAL;VALUE=DURATION:PT1H
X-Robots-Tag:noindex
X-PUBLISHED-TTL:PT1H
BEGIN:VTIMEZONE
TZID:America/New_York
BEGIN:DAYLIGHT
TZOFFSETFROM:-0500
TZOFFSETTO:-0400
TZNAME:EDT
DTSTART:20220313T070000
END:DAYLIGHT
BEGIN:STANDARD
TZOFFSETFROM:-0400
TZOFFSETTO:-0500
TZNAME:EST
DTSTART:20221106T060000
END:STANDARD
BEGIN:DAYLIGHT
TZOFFSETFROM:-0500
TZOFFSETTO:-0400
TZNAME:EDT
DTSTART:20230312T070000
END:DAYLIGHT
BEGIN:STANDARD
TZOFFSETFROM:-0400
TZOFFSETTO:-0500
TZNAME:EST
DTSTART:20231105T060000
END:STANDARD
BEGIN:DAYLIGHT
TZOFFSETFROM:-0500
TZOFFSETTO:-0400
TZNAME:EDT
DTSTART:20240310T070000
END:DAYLIGHT
BEGIN:STANDARD
TZOFFSETFROM:-0400
TZOFFSETTO:-0500
TZNAME:EST
DTSTART:20241103T060000
END:STANDARD
END:VTIMEZONE
BEGIN:VEVENT
DTSTART;TZID=America/New_York:20231001T080000
DTEND;TZID=America/New_York:20231001T160000
DTSTAMP:20260421T040820
CREATED:20221221T145646Z
LAST-MODIFIED:20221221T145646Z
UID:4930-1696147200-1696176000@loudounequine.org
SUMMARY:Red Gate Farm Hunter Show
DESCRIPTION:(VHSA/BHSA/TIP)
URL:https://loudounequine.org/event/red-gate-farm-hunter-show-30
LOCATION:Red Gate Farm\, 19225 Foggy Bottom Rd.\, Bluemont\, VA\, United States
END:VEVENT
BEGIN:VEVENT
DTSTART;TZID=America/New_York:20231008T080000
DTEND;TZID=America/New_York:20231008T170000
DTSTAMP:20260421T040820
CREATED:20230220T213237Z
LAST-MODIFIED:20230220T213237Z
UID:5160-1696752000-1696784400@loudounequine.org
SUMMARY:A Jump Above - Schooling Jumper Show
DESCRIPTION:
URL:https://loudounequine.org/event/a-jump-above-schooling-jumper-show-6
LOCATION:Great Meadow\, 5089 Old Tavern Rd.\, The Plains\, 20198\, United States
END:VEVENT
BEGIN:VEVENT
DTSTART;TZID=America/New_York:20231008T080000
DTEND;TZID=America/New_York:20231008T170000
DTSTAMP:20260421T040820
CREATED:20230220T213310Z
LAST-MODIFIED:20230220T213310Z
UID:5163-1696752000-1696784400@loudounequine.org
SUMMARY:A Jump Above - Schooling Jumper Show
DESCRIPTION:
URL:https://loudounequine.org/event/a-jump-above-schooling-jumper-show-7
LOCATION:Great Meadow\, 5089 Old Tavern Rd.\, The Plains\, 20198\, United States
END:VEVENT
BEGIN:VEVENT
DTSTART;TZID=America/New_York:20231012T080000
DTEND;TZID=America/New_York:20231015T170000
DTSTAMP:20260421T040820
CREATED:20230220T211519Z
LAST-MODIFIED:20230220T211519Z
UID:5108-1697097600-1697389200@loudounequine.org
SUMMARY:Morven Park International & Fall Horse Trials
DESCRIPTION:
URL:https://loudounequine.org/event/morven-park-international-fall-horse-trials
LOCATION:Morven Park Equestrian Center\,  Morven Park Equestrian Center\, 41580 Sunday Morning Lane\, Leesburg\, VA\, 20176\, United States
END:VEVENT
BEGIN:VEVENT
DTSTART;TZID=America/New_York:20231014T080000
DTEND;TZID=America/New_York:20231014T170000
DTSTAMP:20260421T040820
CREATED:20230220T211412Z
LAST-MODIFIED:20230220T211412Z
UID:5105-1697270400-1697302800@loudounequine.org
SUMMARY:Virginia Fall Races & Theodora A. Randolph Field Hunter Championships
DESCRIPTION:
URL:https://loudounequine.org/event/virginia-fall-races-theodora-a-randolph-field-hunter-championships
LOCATION:Glenwood Park\, 36787 Glenwood Park Ln\, Middleburg\, VA\, 20117\, United States
END:VEVENT
BEGIN:VEVENT
DTSTART;TZID=America/New_York:20231017T080000
DTEND;TZID=America/New_York:20231017T170000
DTSTAMP:20260421T040820
CREATED:20230220T212122Z
LAST-MODIFIED:20230220T212321Z
UID:5132-1697529600-1697562000@loudounequine.org
SUMMARY:Fall Open Cross Country Schooling Day
DESCRIPTION:
URL:https://loudounequine.org/event/fall-pen-cross-country-schooling-day
LOCATION:Morven Park Equestrian Center\,  Morven Park Equestrian Center\, 41580 Sunday Morning Lane\, Leesburg\, VA\, 20176\, United States
END:VEVENT
BEGIN:VEVENT
DTSTART;TZID=America/New_York:20231022T090000
DTEND;TZID=America/New_York:20231022T150000
DTSTAMP:20260421T040820
CREATED:20221221T145736Z
LAST-MODIFIED:20221221T145736Z
UID:4933-1697965200-1697986800@loudounequine.org
SUMMARY:Red Gate Farm HALLOWEEN Schooling Jumper Show & Starter Horse Trial
DESCRIPTION:(TIP)
URL:https://loudounequine.org/event/red-gate-farm-halloween-schooling-jumper-show-starter-horse-trial
LOCATION:Red Gate Farm\, 19225 Foggy Bottom Rd.\, Bluemont\, VA\, United States
END:VEVENT
BEGIN:VEVENT
DTSTART;TZID=America/New_York:20231029T080000
DTEND;TZID=America/New_York:20231029T170000
DTSTAMP:20260421T040820
CREATED:20230220T213347Z
LAST-MODIFIED:20230220T213347Z
UID:5166-1698566400-1698598800@loudounequine.org
SUMMARY:A Jump Above - Schooling Jumper Show
DESCRIPTION:
URL:https://loudounequine.org/event/a-jump-above-schooling-jumper-show-8
LOCATION:Great Meadow\, 5089 Old Tavern Rd.\, The Plains\, 20198\, United States
END:VEVENT
END:VCALENDAR